BEGIN:VCALENDAR
VERSION:2.0
PRODID:-//wp-events-plugin.com//7.2.3.1//EN
TZID:America/New_York
X-WR-TIMEZONE:America/New_York
BEGIN:VEVENT
UID:156349@kingstonhappenings.org
DTSTART;TZID=America/New_York:20260524T190000
DTEND;TZID=America/New_York:20260524T203000
DTSTAMP:20260419T190636Z
URL:https://kingstonhappenings.org/events/the-christophers/
SUMMARY:The Christophers
DESCRIPTION:Desperate for an inheritance\, two siblings conspire to forge t
 heir father’s unfinished paintings so they become valuable after his dea
 th. Set against a backdrop of shifting loyalties and emotional reckonings\
 , The Christophers blends drama and mystery as the family navigates a jour
 ney that is as much about solving their father’s final puzzle as it is a
 bout rediscovering one another. In the end\, they must decide whether they
  are willing to let go of the past—or be defined by it.
ATTACH;FMTTYPE=image/jpeg:https://kingstonhappenings.org/wp-content/upload
 s/2026/04/mr-nobody-300-3.jpg
CATEGORIES:@Featured,Movies
LOCATION:Rosendale Theater\, 408 Main St\, Rosendale\, New York\, 12472\, U
 nited States
GEO:41.8441401;-74.0821133
X-APPLE-STRUCTURED-LOCATION;VALUE=URI;X-ADDRESS=408 Main St\, Rosendale\, N
 ew York\, 12472\, United States;X-APPLE-RADIUS=100;X-TITLE=Rosendale Theat
 er:geo:41.8441401,-74.0821133
END:VEVENT
BEGIN:VTIMEZONE
TZID:America/New_York
X-LIC-LOCATION:America/New_York
BEGIN:DAYLIGHT
DTSTART:20260308T030000
TZOFFSETFROM:-0500
TZOFFSETTO:-0400
TZNAME:EDT
END:DAYLIGHT
END:VTIMEZONE
END:VCALENDAR