BEGIN:VCALENDAR
VERSION:2.0
PRODID:-//wp-events-plugin.com//7.2.3.1//EN
TZID:America/New_York
X-WR-TIMEZONE:America/New_York
BEGIN:VEVENT
UID:152294@kingstonhappenings.org
DTSTART;TZID=America/New_York:20251018T190000
DTEND;TZID=America/New_York:20251018T220000
DTSTAMP:20251020T141619Z
URL:https://kingstonhappenings.org/events/the-chorus-screening/
SUMMARY:THE CHORUS screening
DESCRIPTION:\n\nSometimes the people who change our lives are the ones who
 ’ve lost their way themselves.\n\nThat’s a message in “The Chorus\,
 ” a French film that’s enchanted audiences around the world with its b
 eauty\, honesty and soaring choral performances.\n\nJoin us at 7 p.m. Satu
 rday\, Oct. 18\, at Rondout Valley United Methodist Church\, 25 Schoonmake
 r Lane in Stone Ridge\, for this emotionally rich story of hope\, healing
  and the quiet power of compassion.\n\nClément Mathieu is a failed compos
 er taking a job he never wanted — supervising troubled boys at a harsh b
 oarding school in postwar France.\n\nThe headmaster rules through punishme
 nt. The boys have given up hope.\n\nBut Mathieu hears something no one els
 e does: potential.\n\nWhen he forms a choir with these “unreachable” s
 tudents\, their voices — and their lives — transform.\n\nCritics almos
 t universally praise this film\, which earned 12 critic and festival award
 s and was nominated for an Academy Award and Golden Globe for Best Foreign
  Language Film:\n\n“Enchantingly beautiful and moving.” — Claudia Pu
 ig\, USA Today\n“Infused with nostalgia\, optimism and authenticity.” 
 — Doris Toumarkine\, Film Journal International\n“Delivers its uplifti
 ng message with succinctness\, sincerity and skill.” — William Arnold\
 , Seattle Post-Intelligencer\n\nWant a preview? Watch the trailer: tinyurl
 .com/TheChorus-MoviesWithSpirit\n\nI hope you’ll join us for this moving
  celebration of artistic expression\, second chances and the lasting impac
 t of a teacher who chooses inspiration over punishment.\n\nAnd bring a fri
 end who could use a little music in their soul.\n\n\nFrench with English s
 ubtitlesRuntime: 1h 37m | Rated PG-13Oscar-nominated\, winner of 12 critic
  and festival awards
ATTACH;FMTTYPE=image/jpeg:https://kingstonhappenings.org/wp-content/upload
 s/2025/10/The-Chorus.jpg
CATEGORIES:@Featured,@Newsletter,Community,For seniors,Movies
LOCATION:Rondout Valley United Methodist Church\, 25 Schoonmaker Ln\, Stone
  Ridge\, New York\, United States
GEO:41.8397629;-74.15737000000001
X-APPLE-STRUCTURED-LOCATION;VALUE=URI;X-ADDRESS=25 Schoonmaker Ln\, Stone R
 idge\, New York\, United States;X-APPLE-RADIUS=100;X-TITLE=Rondout Valley 
 United Methodist Church:geo:41.8397629,-74.15737000000001
END:VEVENT
BEGIN:VTIMEZONE
TZID:America/New_York
X-LIC-LOCATION:America/New_York
BEGIN:DAYLIGHT
DTSTART:20250309T030000
TZOFFSETFROM:-0500
TZOFFSETTO:-0400
TZNAME:EDT
END:DAYLIGHT
END:VTIMEZONE
END:VCALENDAR