BEGIN:VCALENDAR
VERSION:2.0
PRODID:-//wp-events-plugin.com//7.2.3.1//EN
TZID:America/New_York
X-WR-TIMEZONE:America/New_York
BEGIN:VEVENT
UID:152639@kingstonhappenings.org
DTSTART;TZID=America/New_York:20251115T140000
DTEND;TZID=America/New_York:20251115T140000
DTSTAMP:20251110T222417Z
URL:https://kingstonhappenings.org/events/the-broadway-bubbles-3rd-annual-
 friendsgiving/
SUMMARY:The Broadway Bubble’s 3rd Annual FriendsGiving
DESCRIPTION:It’s that time of year again!Please join us for The Broadway 
 Bubble’s 3rd Annual FriendsGiving.\nCome hungry\, leave happy—there’
 s a spot for everyone at the table.Bring your friends\, family\, and appet
 ite for a warm afternoon of food\, community\, and gratitude.
ATTACH;FMTTYPE=image/jpeg:https://kingstonhappenings.org/wp-content/upload
 s/2025/11/548083015_822199850557408_6870039017934952401_n.jpg
CATEGORIES:@Featured,@Newsletter,Community,For kids
LOCATION:Broadway Bubble Laundromat\, 718 Broadway\, Kingston\, NY\, 12401\
 , United States
GEO:41.93186;-74.009109
X-APPLE-STRUCTURED-LOCATION;VALUE=URI;X-ADDRESS=718 Broadway\, Kingston\, N
 Y\, 12401\, United States;X-APPLE-RADIUS=100;X-TITLE=Broadway Bubble Laund
 romat:geo:41.93186,-74.009109
END:VEVENT
BEGIN:VTIMEZONE
TZID:America/New_York
X-LIC-LOCATION:America/New_York
BEGIN:STANDARD
DTSTART:20251102T010000
TZOFFSETFROM:-0400
TZOFFSETTO:-0500
TZNAME:EST
END:STANDARD
END:VTIMEZONE
END:VCALENDAR