BEGIN:VCALENDAR
VERSION:2.0
PRODID:-//wp-events-plugin.com//7.2.3.1//EN
TZID:America/New_York
X-WR-TIMEZONE:America/New_York
BEGIN:VEVENT
UID:153161@kingstonhappenings.org
DTSTART;TZID=America/New_York:20260103T130000
DTEND;TZID=America/New_York:20260131T160000
DTSTAMP:20260127T131648Z
URL:https://kingstonhappenings.org/events/the-beauty-of-rust-allan-skrilof
 f/
SUMMARY:The Beauty of Rust : Allan Skriloff
DESCRIPTION:The opening reception for The Beauty of Rust: The Art of Allan 
 Skriloff will be on Saturday\, January 3rd from 5pm to 9pm. The abstractio
 n from Rusted metal\, gears\, pipes\, and chains is Allan Skriloff's newes
 t series of oil paintings exhibiting in The Lace Mill Main Gallery.  An a
 rtist who works in his studio at his home in Woodstock\, NY\,  he is a we
 ll established interior decorator as well as an oil painter. His other art
  work series such as Faces\, Men at Work\, and  Musicians have shown in m
 any galleries nationwide such as OK Harris Gallery in SoHo\, NYC\, and Pre
 cision Drilling in Houston\, TX\, and in private collections such as the a
 ward winning Emerson Resort in Mt. Tremper\, NY. He is represented by the 
 Carrie Haddad Gallery in Hudson\, NY. The Beauty of Rust will run from Jan
 uary 3rd thru January 31st. Gallery hours after the opening reception will
  be on Saturdays and Sundays from 1pm to 4pm.
ATTACH;FMTTYPE=image/jpeg:https://kingstonhappenings.org/wp-content/upload
 s/2025/12/5022x3422.jpeg
CATEGORIES:@Featured,@Newsletter,Art
LOCATION:The Lace Mill\, 165 Cornell St.\, Kingston\, New York\, 12401\, Un
 ited States
GEO:41.934636;-73.99857700000001
X-APPLE-STRUCTURED-LOCATION;VALUE=URI;X-ADDRESS=165 Cornell St.\, Kingston\
 , New York\, 12401\, United States;X-APPLE-RADIUS=100;X-TITLE=The Lace Mil
 l:geo:41.934636,-73.99857700000001
END:VEVENT
BEGIN:VTIMEZONE
TZID:America/New_York
X-LIC-LOCATION:America/New_York
BEGIN:STANDARD
DTSTART:20251102T010000
TZOFFSETFROM:-0400
TZOFFSETTO:-0500
TZNAME:EST
END:STANDARD
END:VTIMEZONE
END:VCALENDAR