BEGIN:VCALENDAR
VERSION:2.0
PRODID:-//wp-events-plugin.com//7.2.3.1//EN
TZID:America/New_York
X-WR-TIMEZONE:America/New_York
BEGIN:VEVENT
UID:151466@kingstonhappenings.org
DTSTART;TZID=America/New_York:20250815T190000
DTEND;TZID=America/New_York:20250815T220000
DTSTAMP:20250818T113505Z
URL:https://kingstonhappenings.org/events/the-beatle-project/
SUMMARY:THE BEATLE PROJECT
DESCRIPTION:Some of the Hudson Valley's finest musicians bring you THE WHI
 TE ALBUM\n\nFEATURING...\n\nJoey Eppard: Vocals &amp\; Guitar\nJoey is one
  of the best vocalists in the Hudson Valley and is a well known recording 
 artist and songwriter. In addition to his solo work\, he is the lead vocal
 ist and guitarist for the experimental/progressive rock band\, “3”. As
 ide from performing solo\, Joey also lends his powerful vocal range and pr
 esence to a wide assortment of bands including the Steely Dan tribute band
  “Reeling In The Years” and “Paper Sun”.\n\nLeslie Ritter: Vocals\
 nLeslie is an accomplished vocalist and songwriter whose earthy\, evocativ
 e voice has been praised by fans and critics alike. Along with former sing
 ing partner Amy Fradon\, their song “Take Me Home” placed two singles 
 on the Billboard charts. Leslie later spent many years performing with par
 tner Scott Petito\, together they recorded three highly acclaimed CDs. Les
 lie is a well respected session singer who has appeared on recordings with
  many artists including Dr. John\, Rick Danko\, Livingston Taylor and was 
 recently featured on ‘The Avalances' number 1 album “Wildflower”.\n\
 nScott Petito: Bass &amp\; Music Director\nScott is an award winning compo
 ser\, producer and engineer. He is a gifted bassist and multi-instrumental
 ist who has performed on hundreds of recordings in many musical styles. Al
 ong with being a long term member of “The Fugs”\, Scott has become par
 ticularly well known for his work in the folk and jazz genres\, working wi
 th such musicians as\; James Taylor\, Pete Seeger\, The Band\, Jack DeJohn
 ette\, Don Byron\, Dave Brubeck\, Chick Corea\, Roy Haynes\, John Scofield
  and hundreds of other leading musicians in jazz and popular music. Scott 
 has recently released a highly anticipated and very well received new jazz
  CD titled “Rainbow Gravity”. Accompanied by an impressive group of mu
 sicians\, this album of Scott’s original compositions has been a top pic
 k of the year by many important critics and reviewers.\n\nJeff Mercel: Dru
 ms &amp\; Percussion\nJeff is a multi-instrumentalist and composer. Jeff w
 as a member of the band “Mercury Rev” for many years\, which is when h
 e got his first opportunity to write for picture\, composing and producing
  original scores. Jeff recently released his first full length\, solo rele
 ase\, “Lunescapes Volume One”. Jeff is an active session musician and 
 current member of Miracle Whips and the improvisational group known as “
 Ultraam”. Jeff has also been appointed as the National Director of Music
  for O+\, a national non-profit\, based in Kingston\, NY that works to pro
 vide musicians and visual artists with access to health care.\n\nWill Brya
 nt: Keyboards\nWill Bryant is a recording artist\, singer-songwriter\, mul
 ti-instrumentalist and producer\, known for his nimble tenor voice\, his f
 luency with arrangement\, his versatility and skill as a keyboardist\, and
  his work in the harmonious genre-bending trio ‘The Restless Age’. Bor
 n into a musical family in Austin\, TX\, Bryant was fostered in an environ
 ment of musical appreciation and innovation. After moving to Woodstock\, N
 Y\, Bryant found success as a touring musician\, performing and collaborat
 ing with artists like Donald Fagen (Steely Dan)\, The Lemonheads\, Gene We
 en (Ween)\, Kate Pierson (The B-52s) and Bill Payne (Little Feat)\, along 
 with a great many others from New York state and beyond.\n\nAdam Widoff: G
 uitar\nAdam is a talented multi-instrumentalist who can be found playing g
 uitar with Toshi Reagon and Big Lovely and with P-Funk veterans Clip Payne
 \, Lige Cury and Gary Shider in a vicious unit called “Drugs”. He has 
 studied indian music extensively and was a student of sitar master Ustad J
 amaluddin Bhartiya. Adam has spent time as the guitarist Lenny Kravitz dur
 ing the ‘Let Love Rule’ era. Other credits include Memorial Garage\, K
 arl Denson\, Mercury Rev\, Marc Copely\, David Torn and many live and stud
 io appearances.\n\nDanny Blume: Guitar\nDanny is a Grammy and Juno award-w
 inning music producer\, mixer\, engineer\, musician and recording studio o
 wner. At the age of 8 he heard the Beatles\, pickedup a guitar and never l
 ooked back. He has played in a wide assortment of bands in various genres 
 of music. He toured and recorded with Kid Creole and the Coconuts for over
  ten years. He has toured\, performed and recorded with countless artists\
 , including Iggy Pop\, The Lounge Lizards\, Jill Sobule\, Level 42\, Medes
 ki\, Martin Wood\, Jewel\, Lisa Loeb as well as leading his own bands.
ATTACH;FMTTYPE=image/jpeg:https://kingstonhappenings.org/wp-content/upload
 s/2025/08/508016860_122167461500562532_1770035591541898439_n.jpg
CATEGORIES:@Featured,@Newsletter,Music,Nightlife and entertainment
LOCATION:Assembly\, 236 Wall St. 3rd Floor\, KINGSTON\, NY\, 12401\, United
  States
GEO:41.931738;-74.018648
X-APPLE-STRUCTURED-LOCATION;VALUE=URI;X-ADDRESS=236 Wall St. 3rd Floor\, KI
 NGSTON\, NY\, 12401\, United States;X-APPLE-RADIUS=100;X-TITLE=Assembly:ge
 o:41.931738,-74.018648
END:VEVENT
BEGIN:VTIMEZONE
TZID:America/New_York
X-LIC-LOCATION:America/New_York
BEGIN:DAYLIGHT
DTSTART:20250309T030000
TZOFFSETFROM:-0500
TZOFFSETTO:-0400
TZNAME:EDT
END:DAYLIGHT
END:VTIMEZONE
END:VCALENDAR