BEGIN:VCALENDAR
VERSION:2.0
PRODID:-//wp-events-plugin.com//7.2.3.1//EN
TZID:America/New_York
X-WR-TIMEZONE:America/New_York
BEGIN:VEVENT
UID:152000@kingstonhappenings.org
DTSTART;TZID=America/New_York:20250926T180000
DTEND;TZID=America/New_York:20250926T210000
DTSTAMP:20250922T145212Z
URL:https://kingstonhappenings.org/events/the-backburners-in-the-garden/
SUMMARY:The Backburners in The Garden
DESCRIPTION:Join us for an evening of Americana on our outdoor main stage!\
 nFeaturing: Kyle Esposito (guitar &amp\; vocals)\, Doug Marcus (bass &amp\
 ;vocals)\, Ross Rice (keyboards &amp\; vocals)\, Peter Dougan (guitar &amp
 \; vocals)\, Manuel Quintana (drums) &amp\; Bob Resnick (percussion)\nWhet
 her tearing up a swamp-stomping barn-burner\, gently delivering a tender f
 olk ballad or sailing uncharted seas of near-telepathic group interplay\, 
 the Backburners are a formidable musical collective steeped in the ethic o
 f teamwork\, spontaneity and fine musicianship. Soulful\, rootsy originals
  and covers from bluegrass to classic americana rock and psychedelia aboun
 d.Formed in 2008\, the fruits of many years playing together and a shared 
 appreciation for the traditional as well as the experimental can be heard 
 in the Backburners’ music.\nFriday\, September 26thGates: 5pm/Show: 6 - 
 9pm$20 Suggested Donation
ATTACH;FMTTYPE=image/jpeg:https://kingstonhappenings.org/wp-content/upload
 s/2025/09/539324194_1415366057055619_4898914844235042497_n.jpg
CATEGORIES:@Featured,@Newsletter,Music,Nightlife and entertainment
LOCATION:Colony Woodstock NY\, 22 Rock City Rd\, Woodstock\, New York\, Uni
 ted States
GEO:42.0424924;-74.11799489999999
X-APPLE-STRUCTURED-LOCATION;VALUE=URI;X-ADDRESS=22 Rock City Rd\, Woodstock
 \, New York\, United States;X-APPLE-RADIUS=100;X-TITLE=Colony Woodstock NY
 :geo:42.0424924,-74.11799489999999
END:VEVENT
BEGIN:VTIMEZONE
TZID:America/New_York
X-LIC-LOCATION:America/New_York
BEGIN:DAYLIGHT
DTSTART:20250309T030000
TZOFFSETFROM:-0500
TZOFFSETTO:-0400
TZNAME:EDT
END:DAYLIGHT
END:VTIMEZONE
END:VCALENDAR