BEGIN:VCALENDAR
VERSION:2.0
PRODID:-//wp-events-plugin.com//7.2.3.1//EN
TZID:America/New_York
X-WR-TIMEZONE:America/New_York
BEGIN:VEVENT
UID:152635@kingstonhappenings.org
DTSTART;TZID=America/New_York:20251114T190000
DTEND;TZID=America/New_York:20251114T190000
DTSTAMP:20251117T145411Z
URL:https://kingstonhappenings.org/events/the-arcadian-wild-w-common-man/
SUMMARY:The Arcadian Wild w/ Common Man
DESCRIPTION:The Arcadian Wild is a four-piece indie folk/pop group from Nas
 hville\, TN. Led by songwriters Isaac Horn and Lincoln Mick and Bailey War
 ren on fiddle\, The Arcadian Wild confidently inhabits and explores an int
 ersection of genre\, blending the traditional with the contemporary. Combi
 ning elements of progressive bluegrass\, folk\, and formal vocal music\, T
 he Arcadian Wild offer up songs of invitation\; calls to come and see\, to
  find refuge and rest\, to journey and wonder\, to laugh and cry\, to shar
 e joy and community and sing along.\nThe band’s 2023 album Welcome marks
  the start of a captivating new chapter for the genre-bending trio\, who r
 eturned to the studio with renewed purpose and insight after devoting the 
 last few years to a series of critically acclaimed singles and EPs. Like m
 uch of the band’s catalog\, the album blurs the lines between chamber fo
 lk and progressive bluegrass\, drawing on everything from country and clas
 sical to pop and choral music with lush harmonies and dazzling fretwork\, 
 but this time around there’s a rawness to the writing\, an embrace of ca
 ndor and simplicity that cuts straight to the heart of things like never b
 efore. The result is perhaps the most arresting collection yet from a band
  known for its ability to stop listeners dead in their tracks\, an exquisi
 tely beautiful celebration of community\, connection\, and the power of be
 longing that feels tailor-made for these challenging times.\nhttps://www.t
 hearcadianwild.com/\nCOMMON MAN\nCommon Man is the explosive indie-pop duo
  that defies expectations and captures hearts. Compton &amp\; Meredith\, t
 he husband and wife behind the magic\, craft entrancing stories and harmon
 ies that resonate deeply. Their performances\, whether with a full band or
  in an intimate duo setting\, have graced stages across the the south-east
  U.S.\, leaving an indelible mark on audiences.\nhttps://commonmanband.com
ATTACH;FMTTYPE=image/jpeg:https://kingstonhappenings.org/wp-content/upload
 s/2025/11/538282066_1413063813952510_886255969472929226_n.jpg
CATEGORIES:@Featured,@Newsletter,Music,Nightlife and entertainment
LOCATION:Colony Woodstock NY\, 22 Rock City Rd\, Woodstock\, New York\, Uni
 ted States
GEO:42.0424924;-74.11799489999999
X-APPLE-STRUCTURED-LOCATION;VALUE=URI;X-ADDRESS=22 Rock City Rd\, Woodstock
 \, New York\, United States;X-APPLE-RADIUS=100;X-TITLE=Colony Woodstock NY
 :geo:42.0424924,-74.11799489999999
END:VEVENT
BEGIN:VTIMEZONE
TZID:America/New_York
X-LIC-LOCATION:America/New_York
BEGIN:STANDARD
DTSTART:20251102T010000
TZOFFSETFROM:-0400
TZOFFSETTO:-0500
TZNAME:EST
END:STANDARD
END:VTIMEZONE
END:VCALENDAR