BEGIN:VCALENDAR
VERSION:2.0
PRODID:-//wp-events-plugin.com//7.2.3.1//EN
TZID:America/New_York
X-WR-TIMEZONE:America/New_York
BEGIN:VEVENT
UID:156405@kingstonhappenings.org
DTSTART;TZID=America/New_York:20260421T190000
DTEND;TZID=America/New_York:20260421T190000
DTSTAMP:20260420T164318Z
URL:https://kingstonhappenings.org/events/the-antlers/
SUMMARY:The Antlers
DESCRIPTION:Experience the thrill of live entertainment with The Antlers! W
 hether it's a night out with friends or a moment you've waited for\, this 
 is your time to be part of something special.\nFind tickets now at FindTic
 k and join the action while seats last.
ATTACH;FMTTYPE=image/jpeg:https://kingstonhappenings.org/wp-content/upload
 s/2026/04/615439052_903477715963966_2068913644643317050_n.jpg
CATEGORIES:@Featured,@Newsletter,Music,Nightlife and entertainment
LOCATION:Tubby’s\, 586 Broadway\, Kingston\, New York\, 12401\, United St
 ates
GEO:41.929437;-74.00364
X-APPLE-STRUCTURED-LOCATION;VALUE=URI;X-ADDRESS=586 Broadway\, Kingston\, N
 ew York\, 12401\, United States;X-APPLE-RADIUS=100;X-TITLE=Tubby’s:geo:4
 1.929437,-74.00364
END:VEVENT
BEGIN:VTIMEZONE
TZID:America/New_York
X-LIC-LOCATION:America/New_York
BEGIN:DAYLIGHT
DTSTART:20260308T030000
TZOFFSETFROM:-0500
TZOFFSETTO:-0400
TZNAME:EDT
END:DAYLIGHT
END:VTIMEZONE
END:VCALENDAR