BEGIN:VCALENDAR
VERSION:2.0
PRODID:-//wp-events-plugin.com//7.2.3.1//EN
TZID:America/New_York
X-WR-TIMEZONE:America/New_York
BEGIN:VEVENT
UID:156397@kingstonhappenings.org
DTSTART;TZID=America/New_York:20260425T200000
DTEND;TZID=America/New_York:20260425T200000
DTSTAMP:20260420T144021Z
URL:https://kingstonhappenings.org/events/the-afghan-whigs-40th-anniversar
 y-tour-with-mercury-rev/
SUMMARY:The Afghan Whigs 40th Anniversary Tour with Mercury Rev
DESCRIPTION:The Afghan Whigs 40th Anniversary Tour with Mercury RevSaturday
 \, April 25\, 2026Bearsville TheaterWoodstock\, NYDoors 7pm | Music 8pmAll
  Ages\, under 18 accompanied\n Tickets: https://bearsvilletheater.com/..
 ./the-afghan-whigs-40th...Presale THUR\, JAN 22 at 10am localcode: Bearsvi
 lle
ATTACH;FMTTYPE=image/jpeg:https://kingstonhappenings.org/wp-content/upload
 s/2026/04/616136073_1342305081268643_3545079344845227430_n.jpg
CATEGORIES:@Featured,@Newsletter,Music,Nightlife and entertainment
LOCATION:Bearsville Theater\, 291 Tinker St\, Woodstock\, New York\, United
  States
GEO:42.039887;-74.154127
X-APPLE-STRUCTURED-LOCATION;VALUE=URI;X-ADDRESS=291 Tinker St\, Woodstock\,
  New York\, United States;X-APPLE-RADIUS=100;X-TITLE=Bearsville Theater:ge
 o:42.039887,-74.154127
END:VEVENT
BEGIN:VTIMEZONE
TZID:America/New_York
X-LIC-LOCATION:America/New_York
BEGIN:DAYLIGHT
DTSTART:20260308T030000
TZOFFSETFROM:-0500
TZOFFSETTO:-0400
TZNAME:EDT
END:DAYLIGHT
END:VTIMEZONE
END:VCALENDAR