BEGIN:VCALENDAR
VERSION:2.0
PRODID:-//wp-events-plugin.com//7.2.3.1//EN
TZID:America/New_York
X-WR-TIMEZONE:America/New_York
BEGIN:VEVENT
UID:156109@kingstonhappenings.org
DTSTART;TZID=America/New_York:20260424T193000
DTEND;TZID=America/New_York:20260424T223000
DTSTAMP:20260420T164328Z
URL:https://kingstonhappenings.org/events/the-45th-asbury-short-film-conce
 rt/
SUMMARY:The 45th Asbury Short Film Concert
DESCRIPTION:The Asbury Short Film Concert is generally presented as a two h
 our (plus intermission) fast-paced exhibition of the world’s best short 
 films…from the past and present. The line up will include international 
 festival hits…from all years. The concert offers the best in short film 
 comedy\, drama\, documentary and animation in one sitting without awards\,
  panel discussions or the dreaded Q &amp\; A.\n\nThe theatrical entertainm
 ent event projects 10-12 award winning shorts on real cinema screens intro
 duced by a guest host who appears briefly in each act to offer quick notes
  about the films to the attendees.
ATTACH;FMTTYPE=image/jpeg:https://kingstonhappenings.org/wp-content/upload
 s/2026/04/Asbury-SHort-Film-Concert.jpg
CATEGORIES:@Featured,@Newsletter,Movies
LOCATION:Rosendale Theater\, 408 Main St\, Rosendale\, New York\, 12472\, U
 nited States
GEO:41.8441401;-74.0821133
X-APPLE-STRUCTURED-LOCATION;VALUE=URI;X-ADDRESS=408 Main St\, Rosendale\, N
 ew York\, 12472\, United States;X-APPLE-RADIUS=100;X-TITLE=Rosendale Theat
 er:geo:41.8441401,-74.0821133
END:VEVENT
BEGIN:VTIMEZONE
TZID:America/New_York
X-LIC-LOCATION:America/New_York
BEGIN:DAYLIGHT
DTSTART:20260308T030000
TZOFFSETFROM:-0500
TZOFFSETTO:-0400
TZNAME:EDT
END:DAYLIGHT
END:VTIMEZONE
END:VCALENDAR