BEGIN:VCALENDAR
VERSION:2.0
PRODID:-//wp-events-plugin.com//7.2.3.1//EN
TZID:America/New_York
X-WR-TIMEZONE:America/New_York
BEGIN:VEVENT
UID:152811@kingstonhappenings.org
DTSTART;TZID=America/New_York:20251129T190000
DTEND;TZID=America/New_York:20251129T190000
DTSTAMP:20251124T145620Z
URL:https://kingstonhappenings.org/events/thanksgiving-weekend-dance-party
 /
SUMMARY:Thanksgiving Weekend Dance Party
DESCRIPTION:Dj Eddie P is @ it again 80's 90's style for the Thanksgiving w
 eekend Dance Party @ Hudson House Distillery. Come enjoy great food\,drink
 s &amp\; people adult style. 7-11pm. 21&amp\; up. No Cover. GOOD MUSIC 4 G
 OOD PEOPLE.
ATTACH;FMTTYPE=image/jpeg:https://kingstonhappenings.org/wp-content/upload
 s/2025/11/581690762_838239418569566_3470730588645200066_n.jpg
CATEGORIES:@Featured,@Newsletter,Music,Nightlife and entertainment
LOCATION:HUDSON HOUSE DISTILLERY\, 1835 Route 9w\, West Park\, NY\, United 
 States
GEO:41.784639;-73.958819
X-APPLE-STRUCTURED-LOCATION;VALUE=URI;X-ADDRESS=1835 Route 9w\, West Park\,
  NY\, United States;X-APPLE-RADIUS=100;X-TITLE=HUDSON HOUSE DISTILLERY:geo
 :41.784639,-73.958819
END:VEVENT
BEGIN:VTIMEZONE
TZID:America/New_York
X-LIC-LOCATION:America/New_York
BEGIN:STANDARD
DTSTART:20251102T010000
TZOFFSETFROM:-0400
TZOFFSETTO:-0500
TZNAME:EST
END:STANDARD
END:VTIMEZONE
END:VCALENDAR