BEGIN:VCALENDAR
VERSION:2.0
PRODID:-//wp-events-plugin.com//7.2.3.1//EN
TZID:America/New_York
X-WR-TIMEZONE:America/New_York
BEGIN:VEVENT
UID:152713@kingstonhappenings.org
DTSTART;TZID=America/New_York:20251211T160000
DTEND;TZID=America/New_York:20251211T170000
DTSTAMP:20251208T204557Z
URL:https://kingstonhappenings.org/events/teen-holiday-craft-night/
SUMMARY:Teen Holiday Craft Night
DESCRIPTION:Need a gift for the holidays? Come and make a holiday themed wo
 od slice magnet. You can design your own\, repurpose an old holiday card\,
  or use one of the images provided. This program is for tweens and teens a
 ges 10-16. Please register through the library's calendar at townofulsterl
 ibrary.org or speak with a staff member at 845-338-7881.
ATTACH;FMTTYPE=image/jpeg:https://kingstonhappenings.org/wp-content/upload
 s/2025/11/Teen-holiday-craft-IG-1.png
CATEGORIES:@Featured,@Newsletter,Art,For kids
LOCATION:Town of Ulster Library\, 860 Ulster Ave.\, Kingston\, New York\, 1
 2401\, United States
GEO:41.9546291;-73.99388220000003
X-APPLE-STRUCTURED-LOCATION;VALUE=URI;X-ADDRESS=860 Ulster Ave.\, Kingston\
 , New York\, 12401\, United States;X-APPLE-RADIUS=100;X-TITLE=Town of Ulst
 er Library:geo:41.9546291,-73.99388220000003
END:VEVENT
BEGIN:VTIMEZONE
TZID:America/New_York
X-LIC-LOCATION:America/New_York
BEGIN:STANDARD
DTSTART:20251102T010000
TZOFFSETFROM:-0400
TZOFFSETTO:-0500
TZNAME:EST
END:STANDARD
END:VTIMEZONE
END:VCALENDAR