BEGIN:VCALENDAR
VERSION:2.0
PRODID:-//wp-events-plugin.com//7.2.3.1//EN
TZID:America/New_York
X-WR-TIMEZONE:America/New_York
BEGIN:VEVENT
UID:152046@kingstonhappenings.org
DTSTART;TZID=America/New_York:20251030T170000
DTEND;TZID=America/New_York:20251030T180000
DTSTAMP:20251029T115311Z
URL:https://kingstonhappenings.org/events/teen-craft-night/
SUMMARY:Teen Craft Night
DESCRIPTION:\n\n\n\nPaint a Día de los Muertos inspired sugar skull acorn.
  All teens ages 12-17 welcome. All supplies provided.\n\n\n\n
ATTACH;FMTTYPE=image/jpeg:https://kingstonhappenings.org/wp-content/upload
 s/2025/09/IG-Teen-Craft-Night.png
CATEGORIES:@Featured,@Newsletter,Art,For kids
LOCATION:Town of Ulster Library\, 860 Ulster Ave.\, Kingston\, New York\, 1
 2401\, United States
GEO:41.9546291;-73.99388220000003
X-APPLE-STRUCTURED-LOCATION;VALUE=URI;X-ADDRESS=860 Ulster Ave.\, Kingston\
 , New York\, 12401\, United States;X-APPLE-RADIUS=100;X-TITLE=Town of Ulst
 er Library:geo:41.9546291,-73.99388220000003
END:VEVENT
BEGIN:VTIMEZONE
TZID:America/New_York
X-LIC-LOCATION:America/New_York
BEGIN:DAYLIGHT
DTSTART:20250309T030000
TZOFFSETFROM:-0500
TZOFFSETTO:-0400
TZNAME:EDT
END:DAYLIGHT
END:VTIMEZONE
END:VCALENDAR