BEGIN:VCALENDAR
VERSION:2.0
PRODID:-//wp-events-plugin.com//7.2.3.1//EN
TZID:America/New_York
X-WR-TIMEZONE:America/New_York
BEGIN:VEVENT
UID:154967@kingstonhappenings.org
DTSTART;TZID=America/New_York:20260415T160000
DTEND;TZID=America/New_York:20260415T200000
DTSTAMP:20260126T162000Z
URL:https://kingstonhappenings.org/events/tavern-wednesdays-2026-04-15/
SUMMARY:tavern wednesdays
DESCRIPTION:We’re now open on wednesdays  | 4–8 pm\nintroducing taver
 n wednesday — join us at the bar for a special bar-only menu featuring:
  smash burger wings pork belly spinach dip\nbar seating only — taver
 n menu available only.\nwednesdays just got a whole lot better!
ATTACH;FMTTYPE=image/jpeg:https://kingstonhappenings.org/wp-content/upload
 s/2026/01/613172503_1478113184320083_2085921242941828069_n.jpg
CATEGORIES:Happy Hours,Nightlife and entertainment,Restaurant promotions
LOCATION:End Cut\,  1746 Rt 9W\, West Park\, NY\, 12401\, United States
GEO:41.794421;-73.960114
X-APPLE-STRUCTURED-LOCATION;VALUE=URI;X-ADDRESS= 1746 Rt 9W\, West Park\, N
 Y\, 12401\, United States;X-APPLE-RADIUS=100;X-TITLE=End Cut:geo:41.794421
 ,-73.960114
END:VEVENT
BEGIN:VTIMEZONE
TZID:America/New_York
X-LIC-LOCATION:America/New_York
BEGIN:DAYLIGHT
DTSTART:20260308T030000
TZOFFSETFROM:-0500
TZOFFSETTO:-0400
TZNAME:EDT
END:DAYLIGHT
END:VTIMEZONE
END:VCALENDAR