BEGIN:VCALENDAR
VERSION:2.0
PRODID:-//wp-events-plugin.com//7.2.3.1//EN
TZID:America/New_York
X-WR-TIMEZONE:America/New_York
BEGIN:VEVENT
UID:152610@kingstonhappenings.org
DTSTART;TZID=America/New_York:20251112T180000
DTEND;TZID=America/New_York:20251112T200000
DTSTAMP:20251106T124200Z
URL:https://kingstonhappenings.org/events/taproot-community-housing-mixer/
SUMMARY:TapRoot Community Housing Mixer
DESCRIPTION:Join TapRoot at Tilda's Kitchen for a fun evening of connecting
  and mingling with like-minded individuals passionate about protecting our
  community with affordable housing. This in-person event is a great opport
 unity to connect with others who share your interest in collective empower
 ment. It will also be a chance to learn more about TapRoot's ongoing work 
 and celebrate the first home going into the trust!\n\nWhether you're a lon
 g-time supporter or new to the cause\, this mixer is the perfect chance to
  meet new friends\, exchange ideas\, and enjoy some delicious food and dri
 nks. Don't miss out on this fantastic opportunity to be a part of somethin
 g bigger than yourself!\n\nLearn more about TapRoot at taprootclt.org
ATTACH;FMTTYPE=image/jpeg:https://kingstonhappenings.org/wp-content/upload
 s/2025/11/Screenshot-2025-11-05-at-3.48.22-PM.png
CATEGORIES:@Featured
LOCATION:Tilda's Kitchen\, 630 Broadway\, Kingston\, NY\, 12401\, United St
 ates
GEO:41.930058;-74.005466
X-APPLE-STRUCTURED-LOCATION;VALUE=URI;X-ADDRESS=630 Broadway\, Kingston\, N
 Y\, 12401\, United States;X-APPLE-RADIUS=100;X-TITLE=Tilda's Kitchen:geo:4
 1.930058,-74.005466
END:VEVENT
BEGIN:VTIMEZONE
TZID:America/New_York
X-LIC-LOCATION:America/New_York
BEGIN:STANDARD
DTSTART:20251102T010000
TZOFFSETFROM:-0400
TZOFFSETTO:-0500
TZNAME:EST
END:STANDARD
END:VTIMEZONE
END:VCALENDAR