BEGIN:VCALENDAR
VERSION:2.0
PRODID:-//wp-events-plugin.com//7.2.3.1//EN
TZID:America/New_York
X-WR-TIMEZONE:America/New_York
BEGIN:VEVENT
UID:154943@kingstonhappenings.org
DTSTART;TZID=America/New_York:20260207T100000
DTEND;TZID=America/New_York:20260207T150000
DTSTAMP:20260202T180951Z
URL:https://kingstonhappenings.org/events/take-your-child-to-library-day/
SUMMARY:Take Your Child To Library Day!
DESCRIPTION:Join us for\n\n10:30-11 Story Time &amp\; Craft 12pm Puzzle Rac
 e (teams of 2+) 1-3pm Lego party!\n\nEnjoy snacks\, hot chocolate\, prizes
 \, face painting all day!\n\nFREE! Children under 12 must be accompanied b
 y an adult.
ATTACH;FMTTYPE=image/jpeg:https://kingstonhappenings.org/wp-content/upload
 s/2026/01/Untitled-design.jpg
CATEGORIES:@Featured,@Newsletter,Community,For kids
LOCATION:Town of Ulster Library\, 860 Ulster Ave.\, Kingston\, New York\, 1
 2401\, United States
GEO:41.9546291;-73.99388220000003
X-APPLE-STRUCTURED-LOCATION;VALUE=URI;X-ADDRESS=860 Ulster Ave.\, Kingston\
 , New York\, 12401\, United States;X-APPLE-RADIUS=100;X-TITLE=Town of Ulst
 er Library:geo:41.9546291,-73.99388220000003
END:VEVENT
BEGIN:VTIMEZONE
TZID:America/New_York
X-LIC-LOCATION:America/New_York
BEGIN:STANDARD
DTSTART:20251102T010000
TZOFFSETFROM:-0400
TZOFFSETTO:-0500
TZNAME:EST
END:STANDARD
END:VTIMEZONE
END:VCALENDAR