BEGIN:VCALENDAR
VERSION:2.0
PRODID:-//wp-events-plugin.com//7.2.3.1//EN
TZID:America/New_York
X-WR-TIMEZONE:America/New_York
BEGIN:VEVENT
UID:153339@kingstonhappenings.org
DTSTART;TZID=America/New_York:20260103T193000
DTEND;TZID=America/New_York:20260606T223000
DTSTAMP:20260316T191008Z
URL:https://kingstonhappenings.org/events/swing-dance-with-the-swing-shift
 -orchestra/
SUMMARY:Swing Dance with the Swing Shift Orchestra
DESCRIPTION:Join the fun of our BIG MONTHLY DANCE with a Live Band in Kings
 ton! No partner needed to attend and all are welcome. The dance kicks off 
 with a lesson by Got2Lindy. $25 admission at the door (no credit cards).\n
 \nGot2Lindy has been fostering fun\, footwork and friendships since 2004. 
 Weekly swing dance classes are also available in Kingston and Marlboro. Vi
 sit www.got2lindy.com for more information. We'd love to see you dancing!
ATTACH;FMTTYPE=image/jpeg:https://kingstonhappenings.org/wp-content/upload
 s/2025/12/close-up-swing-dancing-4.jpg
CATEGORIES:@Featured,@Newsletter,Dance
LOCATION:White Eagle Hall\, 487 Delaware Ave.\, Kingston\, NY\, 12401\, Uni
 ted States
GEO:41.926634;-73.982232
X-APPLE-STRUCTURED-LOCATION;VALUE=URI;X-ADDRESS=487 Delaware Ave.\, Kingsto
 n\, NY\, 12401\, United States;X-APPLE-RADIUS=100;X-TITLE=White Eagle Hall
 :geo:41.926634,-73.982232
END:VEVENT
BEGIN:VTIMEZONE
TZID:America/New_York
X-LIC-LOCATION:America/New_York
BEGIN:STANDARD
DTSTART:20251102T010000
TZOFFSETFROM:-0400
TZOFFSETTO:-0500
TZNAME:EST
END:STANDARD
BEGIN:DAYLIGHT
DTSTART:20260308T030000
TZOFFSETFROM:-0500
TZOFFSETTO:-0400
TZNAME:EDT
END:DAYLIGHT
END:VTIMEZONE
END:VCALENDAR