BEGIN:VCALENDAR
VERSION:2.0
PRODID:-//wp-events-plugin.com//7.2.3.1//EN
TZID:America/New_York
X-WR-TIMEZONE:America/New_York
BEGIN:VEVENT
UID:156432@kingstonhappenings.org
DTSTART;TZID=America/New_York:20260522T200000
DTEND;TZID=America/New_York:20260522T220000
DTSTAMP:20260423T180124Z
URL:https://kingstonhappenings.org/events/swing-dance-bash-with-matt-munis
 teris-tempo-all-stars-featuring-tamar-korn/
SUMMARY:Swing Dance Bash with Matt Munisteri\\'s TEMPO All-Stars featuring 
 Tamar Korn
DESCRIPTION:\n\nJoin us for two sets of dancing at our inaugural Swing Danc
 e with Matt Munisteri's TEMPO All-Stars featuring Tamar Korn.\n\nGuitar
 ist\, singer and bandleader Matt Munisteri has assembled a crack team of s
 easoned NYC/Hudson Valley All-Stars in Swing. The members of this special 
 8-piece band have had long associations with Catherine Russell\, Vince Gio
 rdano’s Nighthawks\, and worked with OGs like Benny Goodman\, Buck Clayt
 on and Tony Bennett. They will be augmented by a special guest vocalist\, 
 the always engaging and “beyond category” Tamar Korn\, and along with 
 Matt the band will feature: Jon Kellso (trumpet)\; Mark Shane (piano)\; Ha
 rvey Tibbs (trombone)\; Tom Abbott (sax/clarinet)\; Sean Cronin (bass)\; a
 nd Rich Levinson (drums).\n\nThe band will fill the rafters with everythin
 g from 1920’s New Orleans traditional Jazz\, to 1930’s and 40’s swin
 ging favorites\, as Tempo’s brand new dance floor receives its christeni
 ng from your Happy Feet!\n\n\n7 PM - Free dance class with Emily Vail! \
 n8 PM - Two sets of dancing in the big hall on our new professionally spru
 ng dance floor!\n\nAdvance tickets: $25 community / $35 standard / $50 sup
 porter (plus fees)\nDay-of / Door price: $35\, subject to availability\nAl
 l tickets are general admission.\n\nGET TICKETS HERE
ATTACH;FMTTYPE=image/jpeg:https://kingstonhappenings.org/wp-content/upload
 s/2026/04/SwingdanceMay22-scaled.jpg
CATEGORIES:@Featured,Dance,Music
LOCATION:Tempo Arts\, 29 Wurts St. \, KINGSTON\, NY\, 12401\, United States
GEO:41.918241;-73.986437
X-APPLE-STRUCTURED-LOCATION;VALUE=URI;X-ADDRESS=29 Wurts St. \, KINGSTON\, 
 NY\, 12401\, United States;X-APPLE-RADIUS=100;X-TITLE=Tempo Arts:geo:41.91
 8241,-73.986437
END:VEVENT
BEGIN:VTIMEZONE
TZID:America/New_York
X-LIC-LOCATION:America/New_York
BEGIN:DAYLIGHT
DTSTART:20260308T030000
TZOFFSETFROM:-0500
TZOFFSETTO:-0400
TZNAME:EDT
END:DAYLIGHT
END:VTIMEZONE
END:VCALENDAR