BEGIN:VCALENDAR
VERSION:2.0
PRODID:-//wp-events-plugin.com//7.2.3.1//EN
TZID:America/New_York
X-WR-TIMEZONE:America/New_York
BEGIN:VEVENT
UID:152319@kingstonhappenings.org
DTSTART;TZID=America/New_York:20251011T200000
DTEND;TZID=America/New_York:20251011T200000
DTSTAMP:20251013T135254Z
URL:https://kingstonhappenings.org/events/sweeney-todd-the-demon-barber-of
 -fleet-street-2025-10-10-2025-10-11/
SUMMARY:Sweeney Todd The Demon Barber of Fleet Street
DESCRIPTION:Considered Stephen Sondheim’s masterpiece\, Sweeney Todd is a
 n 8- time Tony Award- Winning Musical that transports audiences into the w
 orld of nineteenth century London where vengeance\, betrayal\, and razor-s
 harp suspense are on the menu.\nAfter decades in exile\, Sweeney Todd\, a 
 wronged barber\, returns to London in pursuit of his brand of justice for 
 the corrupt judge who destroyed his family and his life. Along the way\, h
 e teams up with the cunning Mrs. Lovett\, a desperate owner of a failing p
 ie shop. Soon\, the two devise a diabolical plan to solve both their probl
 ems with the aid of a delectable and mysterious recipe.\nHilarious and sho
 cking\, Sweeney Todd is a music lover’s musical and a unique theatrical 
 experience\, with intriguing characters\, haunting melodies\, and spine-ti
 ngling twists at every turn.\nAn Up In One Production produced by Diana di
  Grandi\nMusic &amp\; Lyrics: Stephen Sondheim\, Book: Hugh Wheeler Origin
 ally Directed on Broadway by Harold Prince\nDirector: Peter Risafi\nMusic 
 Directors: Paul &amp\; JoAnne Schubert\nChoreographer: Cedric James\nCast:
  Duane J. Olson (Sweeney)\, Emily Woolever (Mrs. Lovett)\, Michael Risio (
 Anthony)\, Brittany Baltay (Johanna)\, Alex Heinen (Beggar Woman)\, Andy C
 rispell (Judge)\, Blake Dobbins (Toby)\, Glen Morrice (Beadle)\, Ryan Hont
 z (Pirelli)\, Dennis Wakeman (Jonas Fogg) People of London: Katie-Beth Ans
 pach\, Andrea Buergers\, Anthony Carl\, Kevin McCarthy\, Hayden Cipriano\,
  Arielle Knapp\, Mary Mechalakos\, Jasmin Norwood\, Izzy Ricks\, Daniel Sa
 ntos\, Karen Sheehy\, Maya Schubert\, Dennis Wakeman\, Kelsey Wertheim\, Y
 urble\nRecommended for ages 10 years and up\n\n\nOctober 10 – October 26
 \, 2025Fridays and Saturdays at 8pmSundays at 3pmNote: Saturday\, October 
 25 is a 3pm Matinee\nTickets $29\n
ATTACH;FMTTYPE=image/jpeg:https://kingstonhappenings.org/wp-content/upload
 s/2025/10/528237839_1397748922352095_7776557741749985514_n.jpg
CATEGORIES:@Featured,Community,Music,Nightlife and entertainment,Theater
LOCATION:Center for Performing Arts at Rhinebeck\, \, 
X-APPLE-STRUCTURED-LOCATION;VALUE=URI;X-ADDRESS=\, ;X-APPLE-RADIUS=100;X-TI
 TLE=Center for Performing Arts at Rhinebeck:geo:0,0
END:VEVENT
BEGIN:VTIMEZONE
TZID:America/New_York
X-LIC-LOCATION:America/New_York
BEGIN:DAYLIGHT
DTSTART:20250309T030000
TZOFFSETFROM:-0500
TZOFFSETTO:-0400
TZNAME:EDT
END:DAYLIGHT
END:VTIMEZONE
END:VCALENDAR