BEGIN:VCALENDAR
VERSION:2.0
PRODID:-//wp-events-plugin.com//7.2.3.1//EN
TZID:America/New_York
X-WR-TIMEZONE:America/New_York
BEGIN:VEVENT
UID:156030@kingstonhappenings.org
DTSTART;TZID=America/New_York:20260328T130000
DTEND;TZID=America/New_York:20260328T130000
DTSTAMP:20260325T173618Z
URL:https://kingstonhappenings.org/events/sup-a-community-cauldron-event-f
 eaturing-ramona-lane-of-the-atlas-emily-beck-and-groovepin/
SUMMARY:Sup: A Community Cauldron Event Featuring Ramona Lane\, Of The Atla
 s\, Emily Beck\, and Groovepin
DESCRIPTION:Premier Rhythm &amp\; Punk Party Ramona Lane brings together th
 e community with great music and tasty soup at Keegan Ales!\nSup: A Commun
 ity Cauldron Event Featuring Ramona LaneMarch 28 | 1–11 PM | Keegan Ale
 s\, Kingston\nJoin Ramona Lane for a full day of rhythm\, punk\, and commu
 nity at Keegan Ales. Sup is a soup-based charity event and food drive br
 inging together local restaurants\, musicians\, and businesses.\nEnjoy a s
 oup bar\, raffle\, and live music from Ramona Lane\, Of The Atlas\, Emily 
 Beck\, and Groovepin.\nEntry: Suggested donation or canned goodsBenefitin
 g: Blue Fridge (food donations) &amp\; Family of Woodstock (monetary dona
 tions)\nPresented with support from local partners including Planet Woodst
 ock Music\, Stone Soup Food Company\, Restaurant Kingston\, Black Eyed Suz
 ies\, Monkey Joe’s Roasting Company\, and Woodstock Spa.\nFor more info:
  ramonalaneband@gmail.com
ATTACH;FMTTYPE=image/jpeg:https://kingstonhappenings.org/wp-content/upload
 s/2026/03/sup-flyer-20262.png
CATEGORIES:@Featured,@Newsletter,Community,Music,Nightlife and
 entertainment
LOCATION:Keegan Ales\, 20 Saint James Street\, Kingston\, NY\, 12401\, Unit
 ed States
GEO:41.931504;-74.01187
X-APPLE-STRUCTURED-LOCATION;VALUE=URI;X-ADDRESS=20 Saint James Street\, Kin
 gston\, NY\, 12401\, United States;X-APPLE-RADIUS=100;X-TITLE=Keegan Ales:
 geo:41.931504,-74.01187
END:VEVENT
BEGIN:VTIMEZONE
TZID:America/New_York
X-LIC-LOCATION:America/New_York
BEGIN:DAYLIGHT
DTSTART:20260308T030000
TZOFFSETFROM:-0500
TZOFFSETTO:-0400
TZNAME:EDT
END:DAYLIGHT
END:VTIMEZONE
END:VCALENDAR