BEGIN:VCALENDAR
VERSION:2.0
PRODID:-//wp-events-plugin.com//7.2.3.1//EN
TZID:America/New_York
X-WR-TIMEZONE:America/New_York
BEGIN:VEVENT
UID:152464@kingstonhappenings.org
DTSTART;TZID=America/New_York:20251101T180000
DTEND;TZID=America/New_York:20251101T200000
DTSTAMP:20251029T115321Z
URL:https://kingstonhappenings.org/events/suny-ulster-kingston-advanced-re
 iki-certification-adult-ed-workshop/
SUMMARY:SUNY  Ulster Kingston Advanced Reiki Certification  Adult Ed  Works
 hop
DESCRIPTION:copy and paste:\n\nhttps://www.sunyulster.edu/learn-at-suny-uls
 ter/continuing-education-professional-development/life-leisure-youth/healt
 h-wellness.php\n\nThis is a reminder to sign up for the Advanced Reiki Cer
 tification\, which is a four-week series.  We meet from 6-8 PM starting N
 ovember 8 for four Mondays.  Your prerequisite is Reiki 2 Certification\,
  which I can help you get in person or on Zoom before this series begins.
   See the webpage under "Health and Wellness" in the SUNY Ulster Catalogu
 e. Register here\, copy and paste:\n\n DCB 2426_01 CRN 90095 M 11/10-12/1
  6-8 pm $150 KSU \n\nText me for more information\, 516-708-5213\, or cal
 l the school at 845-339-2025
ATTACH;FMTTYPE=image/jpeg:https://kingstonhappenings.org/wp-content/upload
 s/2025/10/suny-ulster.jpeg
CATEGORIES:@Featured,@Newsletter,Educational classes and lectures,Health,
 fitness, yoga, martial arts and other classes
LOCATION:SUNY Ulster Continuing and Professional Education\, 94 Marys Ave \
 , Kingston\, New York \, 12401\, United States
GEO:41.9221636;-73.99863299999998
X-APPLE-STRUCTURED-LOCATION;VALUE=URI;X-ADDRESS=94 Marys Ave \, Kingston\, 
 New York \, 12401\, United States;X-APPLE-RADIUS=100;X-TITLE=SUNY Ulster C
 ontinuing and Professional Education:geo:41.9221636,-73.99863299999998
END:VEVENT
BEGIN:VTIMEZONE
TZID:America/New_York
X-LIC-LOCATION:America/New_York
BEGIN:DAYLIGHT
DTSTART:20250309T030000
TZOFFSETFROM:-0500
TZOFFSETTO:-0400
TZNAME:EDT
END:DAYLIGHT
END:VTIMEZONE
END:VCALENDAR