BEGIN:VCALENDAR
VERSION:2.0
PRODID:-//wp-events-plugin.com//7.2.3.1//EN
TZID:America/New_York
X-WR-TIMEZONE:America/New_York
BEGIN:VEVENT
UID:155813@kingstonhappenings.org
DTSTART;TZID=America/New_York:20260404T110000
DTEND;TZID=America/New_York:20260404T160000
DTSTAMP:20260406T124337Z
URL:https://kingstonhappenings.org/events/sugaring-off-18th-century-style/
SUMMARY:Sugaring Off: 18th Century Style
DESCRIPTION:Join us at Senate House State Historic Site on Saturday April 4
 th from 11:00am – 4:00pm as we showcase maple sugaring\, 18th century st
 yle! Come and enjoy the music of Mark Rust\, learn more about 18th century
  encampments with the 1st and 3rd Ulster County Militias\, savor some jack
 -wax candy\, see demonstrations of boiling maple sap and enjoy crafts for 
 all ages. This family friendly event is free and open to the public.
ATTACH;FMTTYPE=image/jpeg:https://kingstonhappenings.org/wp-content/upload
 s/2026/03/Sugaring-Off-Mark-Rust-2.jpg
CATEGORIES:@Featured,@Newsletter,Community,For kids,For
 seniors,History,Museum and historic site hours
LOCATION:Senate House State Historic Site\, 296 Fair St\, Kingston\, NY\, 1
 2401\, United States
GEO:41.934355;-74.018791
X-APPLE-STRUCTURED-LOCATION;VALUE=URI;X-ADDRESS=296 Fair St\, Kingston\, NY
 \, 12401\, United States;X-APPLE-RADIUS=100;X-TITLE=Senate House State His
 toric Site:geo:41.934355,-74.018791
END:VEVENT
BEGIN:VTIMEZONE
TZID:America/New_York
X-LIC-LOCATION:America/New_York
BEGIN:DAYLIGHT
DTSTART:20260308T030000
TZOFFSETFROM:-0500
TZOFFSETTO:-0400
TZNAME:EDT
END:DAYLIGHT
END:VTIMEZONE
END:VCALENDAR