BEGIN:VCALENDAR
VERSION:2.0
PRODID:-//wp-events-plugin.com//7.2.3.1//EN
TZID:America/New_York
X-WR-TIMEZONE:America/New_York
BEGIN:VEVENT
UID:153301@kingstonhappenings.org
DTSTART;TZID=America/New_York:20260109T173000
DTEND;TZID=America/New_York:20260109T193000
DTSTAMP:20251229T140033Z
URL:https://kingstonhappenings.org/events/sug-daniels-lexxie-mathis-callie
 -mackenzie-at-rough-draft-2/
SUMMARY:Sug Daniels\, Lexxie Mathis &amp\; callie mackenzie at Rough Draft
DESCRIPTION:Join us for a night of music\, stories\, and healing communal v
 ibrations. Music performances by Lexxie Mathis\, Callie Mackenzie\, and Su
 g Daniels.\n\nAll Ages$10 suggested donation\n\nLexxie Mathis:Lexxie Mathi
 s is a bassist and composer currently based in Wilmington\, DE after spend
 ing the past five years studying and working in Brooklyn\, NY. While she l
 oves laying down funky grooves\, touring\, and recording in the studio\, h
 er solo work embarks on an ambient and electronica journey—bringing the 
 bass to the forefront through harmonics\, chordal ideas\, and melodic\, ai
 ry\, textures that often make it sing like a synthesizer. Drawing inspirat
 ion from composers like Brian Eno\, C418\, and Aphex Twin\, Lexxie creates
  immersive soundscapes that bridge the organic and the electronic. You can
  find her performing in gardens\, yoga studios\, or intimate venues—craf
 ting dreamy\, emotive sounds that are meant to be felt as much as heard.\n
 \ncallie mackenzie:callie mackenzie (she/they) is a Hudson Valley based mu
 sician and artist. Armed with a guitar\, callie writes music with an acous
 tic soul feel that reflects their lived experiences as a Queer Black woman
 . She brings the audience us on a smooth\, soulful and sometimes funky jou
 rney of deep feelings about oppression\, freedom\, love\, heartbreak\, and
  mental health.\n\nSug Daniels:Sug Daniels is a Delaware born\, Philadelph
 ia based\, ukulele player\, singer-songwriter\, story teller\, and produce
 r and coach who is using the tools around her to capture the emotions of a
 n era. Daniels’ work is as colorful\, vulnerable\, and charismatic as he
 r personality. She thoughtfully combines elements of folk\, rock\, and sou
 l alternatives to create personal and tender music interlaced with message
 s of truth and positive change.
ATTACH;FMTTYPE=image/jpeg:https://kingstonhappenings.org/wp-content/upload
 s/2025/12/1.9.2026-KH-Graphic-1-1.png
CATEGORIES:@Featured,Music
LOCATION:Rough Draft Bar & Books\, 82 John Street\, Kingston \, New York\, 
 12401\, United States
GEO:41.9334999;-74.02122020000002
X-APPLE-STRUCTURED-LOCATION;VALUE=URI;X-ADDRESS=82 John Street\, Kingston \
 , New York\, 12401\, United States;X-APPLE-RADIUS=100;X-TITLE=Rough Draft 
 Bar & Books:geo:41.9334999,-74.02122020000002
END:VEVENT
BEGIN:VTIMEZONE
TZID:America/New_York
X-LIC-LOCATION:America/New_York
BEGIN:STANDARD
DTSTART:20251102T010000
TZOFFSETFROM:-0400
TZOFFSETTO:-0500
TZNAME:EST
END:STANDARD
END:VTIMEZONE
END:VCALENDAR