BEGIN:VCALENDAR
VERSION:2.0
PRODID:-//wp-events-plugin.com//7.2.3.1//EN
TZID:America/New_York
X-WR-TIMEZONE:America/New_York
BEGIN:VEVENT
UID:151614@kingstonhappenings.org
DTSTART;TZID=America/New_York:20250914T130000
DTEND;TZID=America/New_York:20250914T170000
DTSTAMP:20250826T165943Z
URL:https://kingstonhappenings.org/events/subterranean-poetry-festival/
SUMMARY:Subterranean Poetry Festival
DESCRIPTION:Century House Historical Society presents:\nthe Poetry Groups a
 t Subterranean Poetry Festival \nA four hour word bath\nFeaturing Orange 
 County Poets\, Hudson Valley Writers Guild\,Calling All Poets and the Wood
 stock Poetry Society\,\n\nHosted by Dave Kime\n\nOrange County Poets: Will
 iam Seaton\, Walter Worden\, Wynn Klosky and Hayden Wayne\n\nHudson Valley
  Writers Guild: Mary Panza\, James Duncan\, Rebecca Schumejda and Thom Fra
 ncis\n\nCalling All Poets: Ulster County Poet Laureate Mike Jurkovic\, Guy
  Reed\, Greg Cornell\, Lisa St. John and Ken Holland\n\nWoodstock Poetry S
 ociety: Phillip X Levine\, Bruce Weber\, Cheryl Rice\, Cole Solis Jativa\,
  Joanne Pagano Weber and Robyn  Hager\n\nTickets/info:  https://widowjan
 emine.ticketspice.com/poetsfest25
ATTACH;FMTTYPE=image/jpeg:https://kingstonhappenings.org/wp-content/upload
 s/2025/08/SPF-2025-1050-IG.jpg
CATEGORIES:@Featured,Festivals and major community events
LOCATION:The Snyder Estate\, 668 Route 213\, Rosendale\, New York\, United 
 States
GEO:41.840979;-74.097719
X-APPLE-STRUCTURED-LOCATION;VALUE=URI;X-ADDRESS=668 Route 213\, Rosendale\,
  New York\, United States;X-APPLE-RADIUS=100;X-TITLE=The Snyder Estate:geo
 :41.840979,-74.097719
END:VEVENT
BEGIN:VTIMEZONE
TZID:America/New_York
X-LIC-LOCATION:America/New_York
BEGIN:DAYLIGHT
DTSTART:20250309T030000
TZOFFSETFROM:-0500
TZOFFSETTO:-0400
TZNAME:EDT
END:DAYLIGHT
END:VTIMEZONE
END:VCALENDAR