BEGIN:VCALENDAR
VERSION:2.0
PRODID:-//wp-events-plugin.com//7.2.3.1//EN
TZID:America/New_York
X-WR-TIMEZONE:America/New_York
BEGIN:VEVENT
UID:152280@kingstonhappenings.org
DTSTART;TZID=America/New_York:20251011T150000
DTEND;TZID=America/New_York:20251011T220000
DTSTAMP:20251009T152025Z
URL:https://kingstonhappenings.org/events/subterranea/
SUMMARY:Subterranea
DESCRIPTION:A truly unforgettable underground experience.\nSupport our Food
  Drive: Bring non-perishable Items! Benefits the Rosendale Food Pantry\n\n
 With:\n\n 	KOL-B\n 	Finner Fresh\n 	Chase the Dream\n 	TRXXED\n 	Perfect S
 olution\n 	L3GDRE\n 	Totally Kyle\n\nand opening acoustic acts:\n\n 	Brad 
 Commeau\n 	Alex Mcbeath\n 	Sebastian Conklin\n\nHosted by:  Widow Jane Mi
 ne &amp\; KTP Solutions\n\nOrganized by:  Tripped Out Productions\n\nVisu
 als and Lighting by: X-Stream Live\n\nVJ Fire:\n\nSound by: Stellar Produ
 ctions\n\nFood: Capt. Kerg's Kitchen\n\nInfo and tickets: https://widowjan
 emine.ticketspice.com/subterranea-2025
ATTACH;FMTTYPE=image/jpeg:https://kingstonhappenings.org/wp-content/upload
 s/2025/10/subterranea-2025-IG.jpg
CATEGORIES:@Featured,@Newsletter
LOCATION:The Snyder Estate\, 668 Route 213\, Rosendale\, New York\, United 
 States
GEO:41.840979;-74.097719
X-APPLE-STRUCTURED-LOCATION;VALUE=URI;X-ADDRESS=668 Route 213\, Rosendale\,
  New York\, United States;X-APPLE-RADIUS=100;X-TITLE=The Snyder Estate:geo
 :41.840979,-74.097719
END:VEVENT
BEGIN:VTIMEZONE
TZID:America/New_York
X-LIC-LOCATION:America/New_York
BEGIN:DAYLIGHT
DTSTART:20250309T030000
TZOFFSETFROM:-0500
TZOFFSETTO:-0400
TZNAME:EDT
END:DAYLIGHT
END:VTIMEZONE
END:VCALENDAR