BEGIN:VCALENDAR
VERSION:2.0
PRODID:-//wp-events-plugin.com//7.2.3.1//EN
TZID:America/New_York
X-WR-TIMEZONE:America/New_York
BEGIN:VEVENT
UID:153317@kingstonhappenings.org
DTSTART;TZID=America/New_York:20251231T220000
DTEND;TZID=America/New_York:20251231T220000
DTSTAMP:20251229T165022Z
URL:https://kingstonhappenings.org/events/strangehouse-presents-nighthawks
 -roaring-20s-masquerade-nye-party/
SUMMARY:Strangehouse Presents: Nighthawks – Roaring 20s Masquerade NYE Pa
 rty
DESCRIPTION:Get ready to party like it’s the Roaring 20’s at NIGHTHAWKS
  NYE Masquerade with DJ Tryst spinning all night! Strangehouse Presents: 
 Nighthawks – Roaring 20s Masquerade NYE Party Tuesday\, December 31 · 1
 0pm–1am Pearl Moon\, Woodstock\nStep into the glamour\, mystery\, and mi
 schief of the Roaring 20s with Strangehouse Presents: Nighthawks\, a New Y
 ear’s Eve masquerade like no other. Spin through the decades with DJ Try
 st\, who’ll keep the dance floor alive spinning through the decades! A j
 ourney of music that moves through time and mood!\nDress to dazzle in mask
 s\, feathers\, and flapper chic\, and immerse yourself in an atmosphere of
  good vibes\, moody glamour\, and playful decadence. Explore mystical corn
 ers with tarot readings and browse unique vendors from Strange Love Shop\,
  offering curiosities and delights to spark your imagination.\nJoin us at 
 Pearl Moon\, Woodstock\, for a night of dancing\, enchantment\, and celebr
 ation — ringing in the new year in style\, intrigue\, and magic.\n10pm
 –1am | Masks encouraged | Good vibes guaranteed\nLIVE ON AIR STREAM WITH
  98.1 WKZE\nDJ Tryst is a sonic shapeshifter who moves effortlessly betwee
 n decades and dance floors. She’s the force behind some of Woodstock’s
  and Hudson Valley's most beloved themed parties — from the sweat-slicke
 d\, mirror-ball magic of Inferno Disco Funk\, to the neon-soaked nostalgia
  trip of Nightwave: 80s Dance Party.\nOn top of lighting up the late-night
  crowd\, she also hosts Nighthawks Radio\, where her curated blends\, deep
  cuts\, and after-dark musings guide listeners through the witching hours.
 \nA mood-maker\, a vibe-builder\, and a nightlife storyteller — DJ Tryst
  is where rhythm meets ritual.\nFollow\ninstagram.com/tryst_official
ATTACH;FMTTYPE=image/jpeg:https://kingstonhappenings.org/wp-content/upload
 s/2025/12/605246137_1456061286524444_1020017551885368787_n.jpg
CATEGORIES:@Featured,@Newsletter,Festivals and major community
 events,Music,Nightlife and entertainment
LOCATION:Pearl Moon\, 52 Mill Hill Rd. \, Woodstock\, New York\, 12498\, Un
 ited States
GEO:42.039503;-74.115618
X-APPLE-STRUCTURED-LOCATION;VALUE=URI;X-ADDRESS=52 Mill Hill Rd. \, Woodsto
 ck\, New York\, 12498\, United States;X-APPLE-RADIUS=100;X-TITLE=Pearl Moo
 n:geo:42.039503,-74.115618
END:VEVENT
BEGIN:VTIMEZONE
TZID:America/New_York
X-LIC-LOCATION:America/New_York
BEGIN:STANDARD
DTSTART:20251102T010000
TZOFFSETFROM:-0400
TZOFFSETTO:-0500
TZNAME:EST
END:STANDARD
END:VTIMEZONE
END:VCALENDAR