BEGIN:VCALENDAR
VERSION:2.0
PRODID:-//wp-events-plugin.com//7.2.3.1//EN
TZID:America/New_York
X-WR-TIMEZONE:America/New_York
BEGIN:VEVENT
UID:156070@kingstonhappenings.org
DTSTART;TZID=America/New_York:20260330T200000
DTEND;TZID=America/New_York:20260330T200000
DTSTAMP:20260406T124349Z
URL:https://kingstonhappenings.org/events/stick-men-featuring-tony-levin-p
 at-mastelotto-and-markus-reuter-with-john-ferrara/
SUMMARY:Stick Men featuring Tony Levin\, Pat Mastelotto\, and Markus Reuter
  with John Ferrara
DESCRIPTION:Levin and Mastelotto\, the legendary bass and drum powerhouse o
 f King Crimson\, join forces with Markus Reuter and his self-designed touc
 h style guitar to create boundary-pushing\, virtuosic music.\n\n&nbsp\;\n\
 n Tickets: https://bearsvilletheater.com/event/stick-men
ATTACH;FMTTYPE=image/jpeg:https://kingstonhappenings.org/wp-content/upload
 s/2026/03/615433731_1335880841911067_8695251590638120419_n-e1774888520343.
 jpg
CATEGORIES:@Featured,@Newsletter,Music,Nightlife and entertainment
LOCATION:Bearsville Theater\, 291 Tinker St\, Woodstock\, New York\, United
  States
GEO:42.039887;-74.154127
X-APPLE-STRUCTURED-LOCATION;VALUE=URI;X-ADDRESS=291 Tinker St\, Woodstock\,
  New York\, United States;X-APPLE-RADIUS=100;X-TITLE=Bearsville Theater:ge
 o:42.039887,-74.154127
END:VEVENT
BEGIN:VTIMEZONE
TZID:America/New_York
X-LIC-LOCATION:America/New_York
BEGIN:DAYLIGHT
DTSTART:20260308T030000
TZOFFSETFROM:-0500
TZOFFSETTO:-0400
TZNAME:EDT
END:DAYLIGHT
END:VTIMEZONE
END:VCALENDAR