BEGIN:VCALENDAR
VERSION:2.0
PRODID:-//wp-events-plugin.com//7.2.3.1//EN
TZID:America/New_York
X-WR-TIMEZONE:America/New_York
BEGIN:VEVENT
UID:155823@kingstonhappenings.org
DTSTART;TZID=America/New_York:20260314T170000
DTEND;TZID=America/New_York:20260314T170000
DTSTAMP:20260309T171522Z
URL:https://kingstonhappenings.org/events/st-patricks-day-dinner/
SUMMARY:St. Patrick’s Day Dinner
DESCRIPTION:Join us for our annual St. Patrick’s Day dinner.\nSaturday\, 
 March 14\, 2026\, from 5-7PM\ncontinuous buffet service\nEat in or\, take 
 out.\n$25.00 per person$20.00 Seniors 65 +$15.00 children under 10FREE Chi
 ldren 5 and under\nThe evening menu will include lean corned beef\, tender
  boiled new potatoes\, tender simmered cabbage and carrots\, Irish soda br
 ead\, festive cupcakes\, tea\, coffee\, lemonade\, ice tea.
ATTACH;FMTTYPE=image/jpeg:https://kingstonhappenings.org/wp-content/upload
 s/2026/03/634919540_1339434531545181_9141857575640580865_n.jpg
CATEGORIES:@Featured,@Newsletter,Community
LOCATION:Reform Church of the Comforter\, 26 Wynkoop Place\, Kingston\, NY\
 , 12401\, United States
GEO:41.9299802;-73.99356460000001
X-APPLE-STRUCTURED-LOCATION;VALUE=URI;X-ADDRESS=26 Wynkoop Place\, Kingston
 \, NY\, 12401\, United States;X-APPLE-RADIUS=100;X-TITLE=Reform Church of 
 the Comforter:geo:41.9299802,-73.99356460000001
END:VEVENT
BEGIN:VTIMEZONE
TZID:America/New_York
X-LIC-LOCATION:America/New_York
BEGIN:DAYLIGHT
DTSTART:20260308T030000
TZOFFSETFROM:-0500
TZOFFSETTO:-0400
TZNAME:EDT
END:DAYLIGHT
END:VTIMEZONE
END:VCALENDAR