BEGIN:VCALENDAR
VERSION:2.0
PRODID:-//wp-events-plugin.com//7.2.3.1//EN
TZID:America/New_York
X-WR-TIMEZONE:America/New_York
BEGIN:VEVENT
UID:156033@kingstonhappenings.org
DTSTART;TZID=America/New_York:20260402T173000
DTEND;TZID=America/New_York:20260402T203000
DTSTAMP:20260325T200449Z
URL:https://kingstonhappenings.org/events/spring-wine-dinner-at-edgewood-r
 estaurant-bar/
SUMMARY:Spring Wine Dinner at Edgewood Restaurant + Bar
DESCRIPTION:Join us for a 5-course wine tasting experience at Edgewood Rest
 aurant + Bar!\nWelcome the Spring season with a curated\, five-course dinn
 er experience at Hutton Brickyards. Featuring pairings hand selected by Ga
 llo Wines\, spend a romantic evening in the historic mansion.\n\n&nbsp\;\n
 \nThe evening begins with a cocktail hour in the bar\, followed by the spe
 cial dinner experience featuring a five-course menu designed by Executive 
 Chef Ed Harder to highlight the fresh\, vibrant flavors of the season. Eac
 h course has been thoughtfully paired with a hand-selected wine\, chosen t
 o complement and elevate the culinary experience. From the first pour to t
 he final course\, guests are invited to relax\, savor\, and enjoy an intim
 ate dining experience in the historic mansion.\n\n&nbsp\;\n\n$135 per pers
 on\n\nFive-courses (including dessert)\, each with a hand-selected drink p
 airing\n\nTickets + Menu\n\n&nbsp\;\n\nOnly available on Thursday\, April 
 2nd. Reservations are required and space is limited. Hope to see you there
 !\n\n&nbsp\;\n\n&nbsp\;
ATTACH;FMTTYPE=image/jpeg:https://kingstonhappenings.org/wp-content/upload
 s/2026/03/Bri-Full-size-Images-January-28-2026-8-web-copy-1-scaled.jpg
CATEGORIES:@Featured,Restaurant promotions
LOCATION:EDGEWOOD RESTAURANT & BAR\, 132 Lindsey Ave\, KINGSTON\, NY\, 1240
 1\, United States
GEO:41.93003;-73.973736
X-APPLE-STRUCTURED-LOCATION;VALUE=URI;X-ADDRESS=132 Lindsey Ave\, KINGSTON\
 , NY\, 12401\, United States;X-APPLE-RADIUS=100;X-TITLE=EDGEWOOD RESTAURAN
 T & BAR:geo:41.93003,-73.973736
END:VEVENT
BEGIN:VTIMEZONE
TZID:America/New_York
X-LIC-LOCATION:America/New_York
BEGIN:DAYLIGHT
DTSTART:20260308T030000
TZOFFSETFROM:-0500
TZOFFSETTO:-0400
TZNAME:EDT
END:DAYLIGHT
END:VTIMEZONE
END:VCALENDAR