BEGIN:VCALENDAR
VERSION:2.0
PRODID:-//wp-events-plugin.com//7.2.3.1//EN
TZID:America/New_York
X-WR-TIMEZONE:America/New_York
BEGIN:VEVENT
UID:156040@kingstonhappenings.org
DTSTART;TZID=America/New_York:20260404T130000
DTEND;TZID=America/New_York:20260404T170000
DTSTAMP:20260328T173156Z
URL:https://kingstonhappenings.org/events/spring-pig-roast/
SUMMARY:Spring Pig Roast
DESCRIPTION:Join us for our annual Season Opening Pig Roast where we're kic
 king off the season with a bang by slow-roasting a whole pig in our China 
 Box for 6 hours! Spend the day enjoying tender\, delicious pulled pork\, c
 risp cider and live music. With our returning signature wood-fired pizza\,
  burgers hot off the grill\, and fresh salad and sides\, there's sure to b
 e something for everyone!
ATTACH;FMTTYPE=image/jpeg:https://kingstonhappenings.org/wp-content/upload
 s/2026/03/Pig-Roast-Start-of-Season-8.5-x-11-in.png
CATEGORIES:@Featured,@Newsletter,Community,Nightlife and
 entertainment,Restaurant promotions,Sports and recreation
LOCATION:Twin Star Orchards\, 155 N Ohioville Rd\, New Paltz\, NY\, 12561\,
  United States
GEO:41.757262;-74.049586
X-APPLE-STRUCTURED-LOCATION;VALUE=URI;X-ADDRESS=155 N Ohioville Rd\, New Pa
 ltz\, NY\, 12561\, United States;X-APPLE-RADIUS=100;X-TITLE=Twin Star Orch
 ards:geo:41.757262,-74.049586
END:VEVENT
BEGIN:VTIMEZONE
TZID:America/New_York
X-LIC-LOCATION:America/New_York
BEGIN:DAYLIGHT
DTSTART:20260308T030000
TZOFFSETFROM:-0500
TZOFFSETTO:-0400
TZNAME:EDT
END:DAYLIGHT
END:VTIMEZONE
END:VCALENDAR