BEGIN:VCALENDAR
VERSION:2.0
PRODID:-//wp-events-plugin.com//7.2.3.1//EN
TZID:America/New_York
X-WR-TIMEZONE:America/New_York
BEGIN:VEVENT
UID:156337@kingstonhappenings.org
DTSTART;TZID=America/New_York:20260517T090000
DTEND;TZID=America/New_York:20260517T120000
DTSTAMP:20260417T170748Z
URL:https://kingstonhappenings.org/events/spring-party-at-play-haven-with-
 my-green-museum/
SUMMARY:Spring Party at Play Haven with My Green Museum
DESCRIPTION:Celebrate Spring with Play Haven and our special guest\, My Gre
 en Museum! Enjoy spring activities\, snacks\, friends\, playing\, and lear
 n more about My Green Museum! Ideal for crawlers through 6 year olds\, adu
 lt supervision is required.\n\nMy Green Museum is an exciting new children
 ’s museum coming to Kingston\, NY\, dedicated to inspiring a love of nat
 ure and sustainability through hands-on\, interactive play. The museum’s
  future exhibits and programs will help children explore topics like polli
 nators\, composting\, local ecology\, and caring for the environment in fu
 n and engaging ways.
ATTACH;FMTTYPE=image/jpeg:https://kingstonhappenings.org/wp-content/upload
 s/2026/04/Social-Event-Posts-9.png
CATEGORIES:For kids
LOCATION:Play Haven\, 402 Albany Ave. \, KINGSTON\, NY\, 12401\, United Sta
 tes
GEO:41.959378;-74.016478
X-APPLE-STRUCTURED-LOCATION;VALUE=URI;X-ADDRESS=402 Albany Ave. \, KINGSTON
 \, NY\, 12401\, United States;X-APPLE-RADIUS=100;X-TITLE=Play Haven:geo:41
 .959378,-74.016478
END:VEVENT
BEGIN:VTIMEZONE
TZID:America/New_York
X-LIC-LOCATION:America/New_York
BEGIN:DAYLIGHT
DTSTART:20260308T030000
TZOFFSETFROM:-0500
TZOFFSETTO:-0400
TZNAME:EDT
END:DAYLIGHT
END:VTIMEZONE
END:VCALENDAR