BEGIN:VCALENDAR
VERSION:2.0
PRODID:-//wp-events-plugin.com//7.2.3.1//EN
TZID:America/New_York
X-WR-TIMEZONE:America/New_York
BEGIN:VEVENT
UID:156079@kingstonhappenings.org
DTSTART;TZID=America/New_York:20260416T160000
DTEND;TZID=America/New_York:20260521T090000
DTSTAMP:20260420T164315Z
URL:https://kingstonhappenings.org/events/spring-baking-series/
SUMMARY:Spring Baking Series
DESCRIPTION:Redeemer Lutheran Church in New Paltz\n\nJoin Cake Club NY for 
 an enriching baking experience where kids ages 7-12 can learn about the fu
 ndamentals of baking! Hands on\, skill based weekly classes where kids wil
 l make their own muffins\, hand pies\, cupcakes\, and bento cakes from scr
 atch—with a little extra to take home too! $349/6 week series\, sign up 
 at www.cakeclubny.com.\n\nSeries runs from April 16-May 21\, Every Thursda
 y 4-5 at the Redeemer Lutheran Church in New Paltz.
CATEGORIES:@Featured,@Newsletter,Educational classes and lectures
LOCATION:Redeemer Lutheran Church\, 104 Wurts Street\, Kingston\, New York\
 , United States
GEO:41.9208248;-73.9883443
X-APPLE-STRUCTURED-LOCATION;VALUE=URI;X-ADDRESS=104 Wurts Street\, Kingston
 \, New York\, United States;X-APPLE-RADIUS=100;X-TITLE=Redeemer Lutheran C
 hurch:geo:41.9208248,-73.9883443
END:VEVENT
BEGIN:VTIMEZONE
TZID:America/New_York
X-LIC-LOCATION:America/New_York
BEGIN:DAYLIGHT
DTSTART:20260308T030000
TZOFFSETFROM:-0500
TZOFFSETTO:-0400
TZNAME:EDT
END:DAYLIGHT
END:VTIMEZONE
END:VCALENDAR