BEGIN:VCALENDAR
VERSION:2.0
PRODID:-//wp-events-plugin.com//7.2.3.1//EN
TZID:America/New_York
X-WR-TIMEZONE:America/New_York
BEGIN:VEVENT
UID:152941@kingstonhappenings.org
DTSTART;TZID=America/New_York:20251206T150000
DTEND;TZID=America/New_York:20251206T170000
DTSTAMP:20251208T134910Z
URL:https://kingstonhappenings.org/events/spotlight-gallery-made-in-kingst
 on-nostalgia/
SUMMARY:Spotlight Gallery: Made in Kingston: Nostalgia
DESCRIPTION:Made in Kingston: Nostalgia\nPaintings by Thea Ivy Stiriss\n\nA
 SK presents Made in Kingston: Nostalgia\, a series of paintings by Hudson
  Valley native Thea Ivy Stiriss. Drawing from childhood memories of Kingst
 on in the 1970s and 1980s\, Stiriss captures the city’s landscapes\, nei
 ghborhoods\, and emotional touchpoints through a dreamlike\, impressionist
 ic lens. The exhibition offers an intimate portrait of a Kingston both rem
 embered and reimagined.\n\n&nbsp\;\n\nOpening Reception: Saturday\, Decem
 ber 6 at 3 PM\nExhibition Dates: Saturday December 6 – Sunday 28\, 2025
 \nLocation: Arts Society of Kingston (ASK)\, 97 Broadway\, Kingston\, NY
CATEGORIES:Art
LOCATION:Arts Society of Kingston (ASK)\, 97 Broadway\, Kingston\, New York
 \, 12401\, United States
GEO:41.920206;-73.985723
X-APPLE-STRUCTURED-LOCATION;VALUE=URI;X-ADDRESS=97 Broadway\, Kingston\, Ne
 w York\, 12401\, United States;X-APPLE-RADIUS=100;X-TITLE=Arts Society of 
 Kingston (ASK):geo:41.920206,-73.985723
END:VEVENT
BEGIN:VTIMEZONE
TZID:America/New_York
X-LIC-LOCATION:America/New_York
BEGIN:STANDARD
DTSTART:20251102T010000
TZOFFSETFROM:-0400
TZOFFSETTO:-0500
TZNAME:EST
END:STANDARD
END:VTIMEZONE
END:VCALENDAR