BEGIN:VCALENDAR
VERSION:2.0
PRODID:-//wp-events-plugin.com//7.2.3.1//EN
TZID:America/New_York
X-WR-TIMEZONE:America/New_York
BEGIN:VEVENT
UID:156313@kingstonhappenings.org
DTSTART;TZID=America/New_York:20260420T170000
DTEND;TZID=America/New_York:20260420T190000
DTSTAMP:20260420T164316Z
URL:https://kingstonhappenings.org/events/speaking-with-presence/
SUMMARY:Speaking with Presence
DESCRIPTION:This interactive\, in-person workshop is for women entrepreneur
 s who know speaking could grow their business—but hesitate when it’s t
 ime to step into the spotlight. \n\nYou’ll get some playful practice\, 
 learn a proven framework to build your presence (without memorizing)\, and
  have the opportunity to get live performance feedback from an award-winni
 ng speaker and performer who’s spoken at SXSW ﬁve times. \n\nREGISTER
  HERE\n\n&nbsp\;
ATTACH;FMTTYPE=image/jpeg:https://kingstonhappenings.org/wp-content/upload
 s/2026/04/111.jpg
CATEGORIES:@Featured,@Newsletter,Educational classes and lectures
LOCATION:CoWork Kingston\, 8 N. Front St. \, Kingston\, New York \, 12401\,
  United States
GEO:41.935168;-74.019098
X-APPLE-STRUCTURED-LOCATION;VALUE=URI;X-ADDRESS=8 N. Front St. \, Kingston\
 , New York \, 12401\, United States;X-APPLE-RADIUS=100;X-TITLE=CoWork King
 ston:geo:41.935168,-74.019098
END:VEVENT
BEGIN:VTIMEZONE
TZID:America/New_York
X-LIC-LOCATION:America/New_York
BEGIN:DAYLIGHT
DTSTART:20260308T030000
TZOFFSETFROM:-0500
TZOFFSETTO:-0400
TZNAME:EDT
END:DAYLIGHT
END:VTIMEZONE
END:VCALENDAR