BEGIN:VCALENDAR
VERSION:2.0
PRODID:-//wp-events-plugin.com//7.2.3.1//EN
TZID:America/New_York
X-WR-TIMEZONE:America/New_York
BEGIN:VEVENT
UID:154939@kingstonhappenings.org
DTSTART;TZID=America/New_York:20260123T200000
DTEND;TZID=America/New_York:20260123T200000
DTSTAMP:20260126T155231Z
URL:https://kingstonhappenings.org/events/sparkbyrd/
SUMMARY:Sparkbyrd
DESCRIPTION:We are excited to welcome Sparkbyrd to the Keegan Ales Stage!\n
 SparkByrd\, a trio comprised of Lauren Willow White\, Chelsea Dawn Davis a
 nd Adrien Reju blends americana\, psychedelia\, country and folk influenc
 es to craft heartfelt music.  Hailing from New York and North Carolina\, 
 Sparkbyrd is Inspired by legends like Gerry Rafferty\, Joni Mitchell\, Joh
 n Prine and Gram Parsons. They evoke and channel the spirit of 1970s while
  exploring themes of love\, heartbreak\, truth\, authenticity and the natu
 ral world.\n\nCheck them out HERE! 
ATTACH;FMTTYPE=image/jpeg:https://kingstonhappenings.org/wp-content/upload
 s/2026/01/unnamed-1.jpg
CATEGORIES:@Featured,@Newsletter,Music,Nightlife and entertainment
LOCATION:Keegan Ales\, 20 Saint James Street\, Kingston\, NY\, 12401\, Unit
 ed States
GEO:41.931504;-74.01187
X-APPLE-STRUCTURED-LOCATION;VALUE=URI;X-ADDRESS=20 Saint James Street\, Kin
 gston\, NY\, 12401\, United States;X-APPLE-RADIUS=100;X-TITLE=Keegan Ales:
 geo:41.931504,-74.01187
END:VEVENT
BEGIN:VTIMEZONE
TZID:America/New_York
X-LIC-LOCATION:America/New_York
BEGIN:STANDARD
DTSTART:20251102T010000
TZOFFSETFROM:-0400
TZOFFSETTO:-0500
TZNAME:EST
END:STANDARD
END:VTIMEZONE
END:VCALENDAR