BEGIN:VCALENDAR
VERSION:2.0
PRODID:-//wp-events-plugin.com//7.2.3.1//EN
TZID:America/New_York
X-WR-TIMEZONE:America/New_York
BEGIN:VEVENT
UID:155814@kingstonhappenings.org
DTSTART;TZID=America/New_York:20260313T200000
DTEND;TZID=America/New_York:20260313T200000
DTSTAMP:20260309T164352Z
URL:https://kingstonhappenings.org/events/spaghetti-eastern-music/
SUMMARY:Spaghetti Eastern Music
DESCRIPTION:Spa\nSpaghetti Eastern Music is the genre-leaping solo project 
 of Hudson Valley-based guitarist/keyboardist Sal Cataldi. Spaghetti Easter
 n Music marries funky\, acid jazz-fueled guitar instrumentals with bare-bo
 nes acoustic ballads straight out of the Nick Drake school. Cataldi debute
 d the project with the critically acclaimed 2016 album\, “Sketches of Sp
 am\,” followed by several EPs and singles. The New York Times says Catal
 di “has a beat unmistakably his own” while Time Out New York praises h
 is "delicate guitar work and the hauntingly moody atmosphere he conjures.
 ” Called “beautiful and unique” by WFUV’s Mixed Bag and “charmin
 gly melodic and off-center” by WFMU. Hudson Valley One has called Spaghe
 tti Eastern “part Sergio Leone fever dream\, part Ravi Shankar raga\, a 
 whirling dervish of musical creation… a must-see.” Chronogram Magazine
  called his music “cool\, melodic\, inspired and transcendent\, a wave o
 f sonic warmth and light.” Psychedelic Baby Magazine labels it “the pe
 rfect sonic tonic for these troubled times.” Cataldi is also a member of
  the ambient guitar duo Guitars A Go Go\, the poetry/music project Vapor V
 espers and the psych/surf quartet\, Spaceheater. He is also a contributing
  writer on music to The New York Times\, Rolling Stone\, PopMatters\, Insi
 deOut Upstate NY and NYSMusic. He is also the host of Reading Is Funktamen
 tal\, a monthly show on WGXC 90.7 FM where he interviews authors of books 
 about music\, including some famous musicians. Look for his music here at 
 Spotify and www://spaghettieasternmusic.bandcamp.com\n\nSee less\n\nSpaghe
 tti Eastern Music is the genre-leaping solo project of Hudson Valley-based
  guitarist/keyboardist Sal Cataldi. Spaghetti Eastern Music marries funky\
 , acid jazz-fueled guitar instrumentals with bare-bones acoustic ballads s
 traight out of the Nick Drake school. Cataldi debuted the project with the
  critically acclaimed 2016 album\, “Sketches of Spam\,” followed by se
 veral EPs and singles. The New York Times says Cataldi “has a beat unmis
 takably his own” while Time Out New York praises his "delicate guitar wo
 rk and the hauntingly moody atmosphere he conjures.” Called “beautiful
  and unique” by WFUV’s Mixed Bag and “charmingly melodic and off-cen
 ter” by WFMU. Hudson Valley One has called Spaghetti Eastern “part Ser
 gio Leone fever dream\, part Ravi Shankar raga\, a whirling dervish of mus
 ical creation… a must-see.” Chronogram Magazine called his music “co
 ol\, melodic\, inspired and transcendent\, a wave of sonic warmth and ligh
 t.” Psychedelic Baby Magazine labels it “the perfect sonic tonic for t
 hese troubled times.” Cataldi is also a member of the ambient guitar duo
  Guitars A Go Go\, the poetry/music project Vapor Vespers and the psych/su
 rf quartet\, Spaceheater. He is also a contributing writer on music to The
  New York Times\, Rolling Stone\, PopMatters\, InsideOut Upstate NY and NY
 SMusic. He is also the host of Reading Is Funktamental\, a monthly show on
  WGXC 90.7 FM where he interviews authors of books about music\, including
  some famous musicians. Look for his music here at Spotify and www://spagh
 ettieasternmusic.bandcamp.com\n\nSee less\n\nghetti Eastern Music is the g
 enre-leaping solo project of Hudson Valley-based guitarist/keyboardist Sal
  Cataldi. Spaghetti Eastern Music marries funky\, acid jazz-fueled guitar 
 instrumentals with bare-bones acoustic ballads straight out of the Nick Dr
 ake school. Cataldi debuted the project with the critically acclaimed 2016
  album\, “Sketches of Spam\,” followed by several EPs and singles. The
  New York Times says Cataldi “has a beat unmistakably his own” while T
 ime Out New York praises his "delicate guitar work and the hauntingly mood
 y atmosphere he conjures.” Called “beautiful and unique” by WFUV’s
  Mixed Bag and “charmingly melodic and off-center” by WFMU. Hudson Val
 ley One has called Spaghetti Eastern “part Sergio Leone fever dream\, pa
 rt Ravi Shankar raga\, a whirling dervish of musical creation… a must-se
 e.” Chronogram Magazine called his music “cool\, melodic\, inspired an
 d transcendent\, a wave of sonic warmth and light.” Psychedelic Baby Mag
 azine labels it “the perfect sonic tonic for these troubled times.” Ca
 taldi is also a member of the ambient guitar duo Guitars A Go Go\, the poe
 try/music project Vapor Vespers and the psych/surf quartet\, Spaceheater. 
 He is also a contributing writer on music to The New York Times\, Rolling 
 Stone\, PopMatters\, InsideOut Upstate NY and NYSMusic. He is also the hos
 t of Reading Is Funktamental\, a monthly show on WGXC 90.7 FM where he int
 erviews authors of books about music\, including some famous musicians. Lo
 ok for his music here at Spotify and www://spaghettieasternmusic.bandcamp.
 com\n\nSee less\n
ATTACH;FMTTYPE=image/jpeg:https://kingstonhappenings.org/wp-content/upload
 s/2026/03/631737970_10163771913644841_4904496577137366743_n.jpg
CATEGORIES:@Featured,@Newsletter,Music,Nightlife and entertainment
LOCATION:Station Bar & Curio\, 101 Tinker St.\, Woodstock\, NY\, 12498\, Un
 ited States
GEO:42.0400618;-74.12365840000001
X-APPLE-STRUCTURED-LOCATION;VALUE=URI;X-ADDRESS=101 Tinker St.\, Woodstock\
 , NY\, 12498\, United States;X-APPLE-RADIUS=100;X-TITLE=Station Bar & Curi
 o:geo:42.0400618,-74.12365840000001
END:VEVENT
BEGIN:VTIMEZONE
TZID:America/New_York
X-LIC-LOCATION:America/New_York
BEGIN:DAYLIGHT
DTSTART:20260308T030000
TZOFFSETFROM:-0500
TZOFFSETTO:-0400
TZNAME:EDT
END:DAYLIGHT
END:VTIMEZONE
END:VCALENDAR