BEGIN:VCALENDAR
VERSION:2.0
PRODID:-//wp-events-plugin.com//7.2.3.1//EN
TZID:America/New_York
X-WR-TIMEZONE:America/New_York
BEGIN:VEVENT
UID:152335@kingstonhappenings.org
DTSTART;TZID=America/New_York:20251108T200000
DTEND;TZID=America/New_York:20251108T230000
DTSTAMP:20251103T160743Z
URL:https://kingstonhappenings.org/events/spaghetti-eastern-electro-dub-sp
 aceheater-at-night-swim/
SUMMARY:Spaghetti Eastern Electro Dub &amp\; Spaceheater at Night Swim
DESCRIPTION:Two great bands...\n\nSpaghetti Eastern Electro Dub is a genre-
 leaping project founded by Hudson Valley-based guitarist/keyboardist Sal C
 ataldi. Like his solo project\, Spaghetti Eastern Music\, it blends variou
 s styles to craft a unique fusion of Jamaican dub\, Indian raga\, electron
 ica\, psychedelia\, and jazz.\n\n&nbsp\;\n\nCataldi’s creative partners 
 in this project are bassist/composer Tom “Spontaneous” Semioli\, drumm
 er Dirk Drazen\, and Dawoud “The Sufi Renegade” Kringle\, wielding a h
 ybrid instrument called the Dautar.  The band’s debut release\, Live at
  Green Kill Sessions\, was released in March 2025 on Bad Egg Records.  Th
 e album is available via CD\, Bandcamp\, Spotify\, and other streaming pla
 tforms.\n\nReviews of the new album include: “Melodic\, groovy\, passion
 ately experimental tunes\, an album that will have you completely entrance
 d.” NYSMusic.com …“Spaghetti Eastern Electro Dub is a sonic soup for
  the soul.” Radio Free Brooklyn …”Another knockout from Spaghetti Ea
 stern.” WFMU …“Hypnotic and chill\, a very original work.” Art Vib
 es …“A great work\, very cool psychedelic rock.”  Astropilot Music
 … “Melodically wonderful\, with a nice psychedelic atmosphere.” Cosm
 icleaf  …“A super sweet ambient and experimental work.” Ingrown Rad
 io .. “Music with a smoked-out\, hypnotic vibe.” Shivelight … “A g
 reat sound.” Jah Wobble\, Public Image Ltd.  “A jam that blends eleme
 nts of dub\, Indian raga\, and psychedelic improvisation into a textured a
 nd evolving instrumental piece.” Electronica UK  “The psychedelic sha
 pe-shifting bass twists and supreme lead guitar turns of ‘Kilimanjaro’
  opens my mind and has me seeing a trippy cat burglar indie film that has 
 yet to be made.” American Pancake …“The hypnotic bass grooves and ja
 zzy\, atmospheric guitar work create an impressive instrumental soundscape
 .” Sound of Sam … “With grooves that switch mid-song between swing a
 nd straight rhythms\, this is a fantastic album to sink your teeth into 
 — whether you’re zoning out on heady instrumentals or looking for insp
 iration as a fellow musician.” Daily Gazette/Nippertown.com\n\nspaceheat
 er is a quartet comprised of four veteran Hudson Valley musicians\, guitar
 ists Rick Warren and Sal Cataldi\, bassist Dave Strahl and drummer April D
 rums.  Together\, they put their effects-driven guitars\, thumping bass a
 nd polyrhythmic drum assault to work on everything from the heaviest rock 
 to jazz and blues to ambient and industrial sounds\, in both originals and
  obscure covers. The latter span from early Pink Floyd to electric-era Mil
 es Davis and Terje Rypdal to psych/garage classics like Eight Miles High a
 nd Rumble. The band regularly performs at popular Hudson Valley venues inc
 luding the Colony\, Pearl Moon and The Station Bar in Woodstock\, The Tink
 er Street Tavern at the Bearsville Theater\, West Kill Supply and Green Ki
 ll Sessions in Kingston\, Snug Harbor in New Paltz and many more.\n\nspace
 heater is an appropriate name for the group as it was birthed during rehea
 rsals in the winter months of 2021/22 at Kingston’s Green Kill art galle
 ry. While jamming there\, the group was warmed by space heaters\, ones who
 se fumes may have played a role in imbuing their work with its unique hall
 ucinatory bend.  Their sound combines the loose meandering jams of “St.
  Stephen”-flavored Grateful Dead with the edgy prog/industrial/space roc
 k improvs of latter-day King Crimson and Krautrock.  Hudson Valley One re
 cently called the band: “A powerhouse of genre-defying sounds\, blending
  heavy rock\, jazz\, blues ambient and industrial influences.”
ATTACH;FMTTYPE=image/jpeg:https://kingstonhappenings.org/wp-content/upload
 s/2025/10/Spaghetti-Eastern-electro-dub-6.jpg
CATEGORIES:@Featured,@Newsletter,Music,Nightlife and entertainment
LOCATION:NightSwim\, 744 Broadway\, KINGSTON\, NY\, 12401\, United States
GEO:41.931988;-74.010481
X-APPLE-STRUCTURED-LOCATION;VALUE=URI;X-ADDRESS=744 Broadway\, KINGSTON\, N
 Y\, 12401\, United States;X-APPLE-RADIUS=100;X-TITLE=NightSwim:geo:41.9319
 88,-74.010481
END:VEVENT
BEGIN:VTIMEZONE
TZID:America/New_York
X-LIC-LOCATION:America/New_York
BEGIN:STANDARD
DTSTART:20251102T010000
TZOFFSETFROM:-0400
TZOFFSETTO:-0500
TZNAME:EST
END:STANDARD
END:VTIMEZONE
END:VCALENDAR