BEGIN:VCALENDAR
VERSION:2.0
PRODID:-//wp-events-plugin.com//7.2.3.1//EN
TZID:America/New_York
X-WR-TIMEZONE:America/New_York
BEGIN:VEVENT
UID:152337@kingstonhappenings.org
DTSTART;TZID=America/New_York:20251128T200000
DTEND;TZID=America/New_York:20251128T210000
DTSTAMP:20251014T142830Z
URL:https://kingstonhappenings.org/events/spaceheater-at-green-kill/
SUMMARY:Spaceheater at Green Kill
DESCRIPTION:spaceheater is a quartet comprised of four veteran Hudson Valle
 y musicians\, guitarists Rick Warren and Sal Cataldi\, bassist Dave Strahl
  and drummer April Drums.  Together\, they put their effects-driven guita
 rs\, thumping bass and polyrhythmic drum assault to work on everything fro
 m the heaviest rock to jazz and blues to ambient and industrial sounds\, i
 n both originals and obscure covers. The latter span from early Pink Floyd
  to electric-era Miles Davis and Terje Rypdal to psych/garage classics lik
 e Eight Miles High and Rumble. The band regularly performs at popular Huds
 on Valley venues including the Colony\, Pearl Moon and The Station Bar in 
 Woodstock\, The Tinker Street Tavern at the Bearsville Theater\, West Kill
  Supply and Green Kill Sessions in Kingston\, Snug Harbor in New Paltz and
  many more.\n\nspaceheater is an appropriate name for the group as it was 
 birthed during rehearsals in the winter months of 2021/22 at Kingston’s 
 Green Kill art gallery. While jamming there\, the group was warmed by spac
 e heaters\, ones whose fumes may have played a role in imbuing their work 
 with its unique hallucinatory bend.  Their sound combines the loose meand
 ering jams of “St. Stephen”-flavored Grateful Dead with the edgy prog/
 industrial/space rock improvs of latter-day King Crimson and Krautrock.  
 Hudson Valley One recently called the band: “A powerhouse of genre-defyi
 ng sounds\, blending heavy rock\, jazz\, blues ambient and industrial infl
 uences.”
ATTACH;FMTTYPE=image/jpeg:https://kingstonhappenings.org/wp-content/upload
 s/2025/10/IMG_4210.jpeg
CATEGORIES:@Featured,Music
LOCATION:Green Kill\, 229 Greenkill ave\, Kingston\, New York\, 12401\, Uni
 ted States
GEO:41.92496999999999;-74.0121939
X-APPLE-STRUCTURED-LOCATION;VALUE=URI;X-ADDRESS=229 Greenkill ave\, Kingsto
 n\, New York\, 12401\, United States;X-APPLE-RADIUS=100;X-TITLE=Green Kill
 :geo:41.92496999999999,-74.0121939
END:VEVENT
BEGIN:VTIMEZONE
TZID:America/New_York
X-LIC-LOCATION:America/New_York
BEGIN:STANDARD
DTSTART:20251102T010000
TZOFFSETFROM:-0400
TZOFFSETTO:-0500
TZNAME:EST
END:STANDARD
END:VTIMEZONE
END:VCALENDAR