BEGIN:VCALENDAR
VERSION:2.0
PRODID:-//wp-events-plugin.com//7.2.3.1//EN
TZID:America/New_York
X-WR-TIMEZONE:America/New_York
BEGIN:VEVENT
UID:155810@kingstonhappenings.org
DTSTART;TZID=America/New_York:20260315T130000
DTEND;TZID=America/New_York:20260315T153000
DTSTAMP:20260309T201351Z
URL:https://kingstonhappenings.org/events/soulcollage-w-nixa-de-bellis/
SUMMARY:SoulCollage® w/ Nixa De Bellis
DESCRIPTION:\n\n\nDiscover your wisdom\, and change your world with SoulCol
 lage®. Let's embark upon a collective card-making studio filled with deep
  guidance!\n\n\n\n\n\n\nSoulCollage® is a creative expression method usin
 g image\, intuition and imagination to make 5x8 collages. We use wordless\
 , prepared images\, torn and cut apart with the sound of scissors to be re
 arranged and put back together with the scent of glue\, in new forms guide
 d by the interior sight. We use emergent deep listening to voice and scrib
 e these new energies with others\, and we get the blessing of hearing back
  the profundity of our own inner guidance. We create a self-understanding.
 \n\nIn each Card-Making Studio\, you will make one to three cards\, and ov
 er time may indeed make an entire deck of your own oracle cards\, excavate
 d from your soul. No special artistic talent is necessary. All human earth
 lings have this capacity to cut and paste\, to listen\, and to voice thems
 elves. Art materials\, supplies\, images and instruction included.\n\nCome
  play\, relax\, and discover insight with guidance and supportive care.\n\
 n\n
ATTACH;FMTTYPE=image/jpeg:https://kingstonhappenings.org/wp-content/upload
 s/2026/03/toolsetup.jpg
CATEGORIES:@Featured,@Newsletter,Health, fitness, yoga, martial arts and
 other classes
LOCATION:Evolutionary Psychotherapy\, 291 Wall Street\, 3rd Floor\, KINGSTO
 N\, NY\, 12401\, United States
GEO:41.933544;-74.019868
X-APPLE-STRUCTURED-LOCATION;VALUE=URI;X-ADDRESS=291 Wall Street\, 3rd Floor
 \, KINGSTON\, NY\, 12401\, United States;X-APPLE-RADIUS=100;X-TITLE=Evolut
 ionary Psychotherapy:geo:41.933544,-74.019868
END:VEVENT
BEGIN:VTIMEZONE
TZID:America/New_York
X-LIC-LOCATION:America/New_York
BEGIN:DAYLIGHT
DTSTART:20260308T030000
TZOFFSETFROM:-0500
TZOFFSETTO:-0400
TZNAME:EDT
END:DAYLIGHT
END:VTIMEZONE
END:VCALENDAR