BEGIN:VCALENDAR
VERSION:2.0
PRODID:-//wp-events-plugin.com//7.2.3.1//EN
TZID:America/New_York
X-WR-TIMEZONE:America/New_York
BEGIN:VEVENT
UID:153135@kingstonhappenings.org
DTSTART;TZID=America/New_York:20251220T200000
DTEND;TZID=America/New_York:20251220T200000
DTSTAMP:20251216T143617Z
URL:https://kingstonhappenings.org/events/soul-purpose-keegan-ales-2/
SUMMARY:Soul Purpose @ Keegan Ales
DESCRIPTION:Keegan Ales is Happy to Welcome Soul Purpose back to the Keegan
  Ales Stage!\nNamed the “Best Local Band in the Hudson Valley” by read
 ers of Hudson Valley Magazine\, Soul Purpose is a seven-piece band fueled 
 by a shared love of Soul\, New Orleans Funk. Swing\, R&amp\;B and Jazz mus
 ic. Based in New York’s Hudson Valley\, Soul Purpose has been entertaini
 ng fans with their “soulful sounds\, brazen horn section and warm vocals
 ”\n\nCheck out the band here
ATTACH;FMTTYPE=image/jpeg:https://kingstonhappenings.org/wp-content/upload
 s/2025/12/soul-purpose-1-1.jpg
CATEGORIES:@Featured,@Newsletter,Music,Nightlife and entertainment
LOCATION:Keegan Ales\, 20 Saint James Street\, Kingston\, NY\, 12401\, Unit
 ed States
GEO:41.931504;-74.01187
X-APPLE-STRUCTURED-LOCATION;VALUE=URI;X-ADDRESS=20 Saint James Street\, Kin
 gston\, NY\, 12401\, United States;X-APPLE-RADIUS=100;X-TITLE=Keegan Ales:
 geo:41.931504,-74.01187
END:VEVENT
BEGIN:VTIMEZONE
TZID:America/New_York
X-LIC-LOCATION:America/New_York
BEGIN:STANDARD
DTSTART:20251102T010000
TZOFFSETFROM:-0400
TZOFFSETTO:-0500
TZNAME:EST
END:STANDARD
END:VTIMEZONE
END:VCALENDAR