BEGIN:VCALENDAR
VERSION:2.0
PRODID:-//wp-events-plugin.com//7.2.3.1//EN
TZID:America/New_York
X-WR-TIMEZONE:America/New_York
BEGIN:VEVENT
UID:153354@kingstonhappenings.org
DTSTART;TZID=America/New_York:20260107T190000
DTEND;TZID=America/New_York:20260107T190000
DTSTAMP:20260105T130752Z
URL:https://kingstonhappenings.org/events/soul-patrol/
SUMMARY:Soul Patrol!
DESCRIPTION:Featuring Harvey Citron\, Ross Rice\, Sean Tarleton\, Jerry Mar
 otta &amp\; Jay Collins!\nSoul Patrol celebrates the music of Motown\, Sou
 l\, R&amp\;B.James Brown says “I got ants in my pants and I need to danc
 e”\nwww.citron-guitars.com\nWednesday\, January 7thDoors: 6pm/Show: 7pm$
 20 Suggested Donation
ATTACH;FMTTYPE=image/jpeg:https://kingstonhappenings.org/wp-content/upload
 s/2026/01/592570507_1500578181867739_7125395112337426399_n.jpg
CATEGORIES:@Featured,@Newsletter,Music,Nightlife and entertainment
LOCATION:Colony Woodstock NY\, 22 Rock City Rd\, Woodstock\, New York\, Uni
 ted States
GEO:42.0424924;-74.11799489999999
X-APPLE-STRUCTURED-LOCATION;VALUE=URI;X-ADDRESS=22 Rock City Rd\, Woodstock
 \, New York\, United States;X-APPLE-RADIUS=100;X-TITLE=Colony Woodstock NY
 :geo:42.0424924,-74.11799489999999
END:VEVENT
BEGIN:VTIMEZONE
TZID:America/New_York
X-LIC-LOCATION:America/New_York
BEGIN:STANDARD
DTSTART:20251102T010000
TZOFFSETFROM:-0400
TZOFFSETTO:-0500
TZNAME:EST
END:STANDARD
END:VTIMEZONE
END:VCALENDAR