BEGIN:VCALENDAR
VERSION:2.0
PRODID:-//wp-events-plugin.com//7.2.3.1//EN
TZID:America/New_York
X-WR-TIMEZONE:America/New_York
BEGIN:VEVENT
UID:155773@kingstonhappenings.org
DTSTART;TZID=America/New_York:20260409T190000
DTEND;TZID=America/New_York:20260430T200000
DTSTAMP:20260406T230059Z
URL:https://kingstonhappenings.org/events/song-circle/
SUMMARY:Song Circle
DESCRIPTION:Singing is medicine. All of our ancestors were singers\, and so
  are you. All abilities and disabilities are welcome.\nEach week Raffles w
 ill offer songs of healing and grief and rising up for what’s good! … 
 songs that affirm our rightful place in the natural world\, and call forwa
 rd a more just and beautiful future.\n\nWe’ll learn them and sing them t
 ogether\, without stress about “getting it right”\, but with some amou
 nt of nerdery mixed in\, to keep leveling up our practices of embodied sin
 ging\, nuanced musicality\, and spell-casting.\n\n&nbsp\;\n\nFacilitated b
 y Raffles\n\nWhole Series: $80\n\nDrop-In Per Class: $10-30\n\n2 free spot
 s for BIPOC folx
ATTACH;FMTTYPE=image/jpeg:https://kingstonhappenings.org/wp-content/upload
 s/2026/03/DSC_9973.jpg.webp
CATEGORIES:@Featured,@Newsletter,Educational classes and lectures,Music
LOCATION:WildHeart: Center for Performance and Embodiment Practice\, 183 Ea
 st Road\, Wallkill\, NY\, 12589\, United States
GEO:41.588939;-74.05362
X-APPLE-STRUCTURED-LOCATION;VALUE=URI;X-ADDRESS=183 East Road\, Wallkill\, 
 NY\, 12589\, United States;X-APPLE-RADIUS=100;X-TITLE=WildHeart: Center fo
 r Performance and Embodiment Practice:geo:41.588939,-74.05362
END:VEVENT
BEGIN:VTIMEZONE
TZID:America/New_York
X-LIC-LOCATION:America/New_York
BEGIN:DAYLIGHT
DTSTART:20260308T030000
TZOFFSETFROM:-0500
TZOFFSETTO:-0400
TZNAME:EDT
END:DAYLIGHT
END:VTIMEZONE
END:VCALENDAR