BEGIN:VCALENDAR
VERSION:2.0
PRODID:-//wp-events-plugin.com//7.2.3.1//EN
TZID:America/New_York
X-WR-TIMEZONE:America/New_York
BEGIN:VEVENT
UID:155774@kingstonhappenings.org
DTSTART;TZID=America/New_York:20260419T100000
DTEND;TZID=America/New_York:20260419T130000
DTSTAMP:20260316T200445Z
URL:https://kingstonhappenings.org/events/somatics-and-art-for-culture-shi
 ft/
SUMMARY:Somatics and Art for Culture Shift
DESCRIPTION:\n\n\n\n\nIn this workshop we will explore the overlap of somat
 ic practice and art for culture shift. We will begin by looking at how som
 e aspects of our overculture – hyper-activity\, electronic devices\, sys
 tems of oppression\, capitalism – live in and pattern our bodies. And ou
 r bodies\, in turn\, create our collective culture\, often through our cre
 ations. Therefore both our bodies and our creations are places where we ca
 n interrupt patterns of harm and create more freedom.\n\nThrough a guided 
 somatic process\, we will approach our bodies with gentleness and curiosit
 y to see what is there. From this felt place\, we will move\, sound\, and 
 express. Feeling and expressing not only helps us to identify what is ther
 e\, but also opens the possibility of change.\n\n\n\n\n\n\n\n\n\n\nThe sec
 ond half of the workshop will be a guided creative session making art for 
 culture shift. As artists\, we have a potent role in shifting our society 
 towards justice\, wellbeing\, and reverence for life. Using the inspiratio
 n of what we find in our embodied practice\, we will enter into the creati
 ve process. Starting with a creative prompt\, this will be open time where
  we work individually\, letting our bodies and inspiration guide us. Each 
 person will choose the medium in which they work – dance\, voice\, theat
 er\, writing\, drawing\, etc. We will each create\, share our work\, and h
 ave discussion about the pieces.\n\nFacilitated by Neva Cockrell\n\n$25-75
  sliding scale.\n\n2 free spots for BIPOC folx\n\n\n\n\n
ATTACH;FMTTYPE=image/jpeg:https://kingstonhappenings.org/wp-content/upload
 s/2026/03/Neva-Cockrell-movement-pregnancy-scaled.jpg
CATEGORIES:@Featured,Art,Community,Educational classes and lectures
LOCATION:WildHeart: Center for Performance and Embodiment Practice\, 183 Ea
 st Road\, Wallkill\, NY\, 12589\, United States
GEO:41.588939;-74.05362
X-APPLE-STRUCTURED-LOCATION;VALUE=URI;X-ADDRESS=183 East Road\, Wallkill\, 
 NY\, 12589\, United States;X-APPLE-RADIUS=100;X-TITLE=WildHeart: Center fo
 r Performance and Embodiment Practice:geo:41.588939,-74.05362
END:VEVENT
BEGIN:VTIMEZONE
TZID:America/New_York
X-LIC-LOCATION:America/New_York
BEGIN:DAYLIGHT
DTSTART:20260308T030000
TZOFFSETFROM:-0500
TZOFFSETTO:-0400
TZNAME:EDT
END:DAYLIGHT
END:VTIMEZONE
END:VCALENDAR