BEGIN:VCALENDAR
VERSION:2.0
PRODID:-//wp-events-plugin.com//7.2.3.1//EN
TZID:America/New_York
X-WR-TIMEZONE:America/New_York
BEGIN:VEVENT
UID:156355@kingstonhappenings.org
DTSTART;TZID=America/New_York:20260501T130000
DTEND;TZID=America/New_York:20260501T170000
DTSTAMP:20260419T193048Z
URL:https://kingstonhappenings.org/events/solaris-solar-powered-tour-boat-
 season-begins/
SUMMARY:Solaris Solar Powered Tour Boat Season Begins
DESCRIPTION:Bookings are open for the season! Join us May 1st-Oct 31st aboa
 rd the first 100% solar-powered cruise boat licensed by the U.S. Coast Gua
 rd as a passenger vessel Tour aboard the Solaris allow you to enjoy the ar
 ea's wildlife\, historic Hudson River lighthouses and unique views of the 
 Rondout Creek and Hudson River as you glide silently through the water. To
 ur ranges from Lighthouse Tours &amp\; sightseeing lectures to karaoke &am
 p\; birdwatching plus more. All Solaris cruise tickets include free admiss
 ion to the Hudson River Maritime Museum! See website for full cruise sched
 ule: https://bit.ly/482ne1k\n
ATTACH;FMTTYPE=image/jpeg:https://kingstonhappenings.org/wp-content/upload
 s/2026/04/Solaris-LH.jpg
CATEGORIES:@Featured,Museum and historic site hours
LOCATION:Hudson River Maritime Museum\, 50 Rondout Landing\, Kingston\, NY\
 , 12401\, United States
GEO:41.91886;-73.980984
X-APPLE-STRUCTURED-LOCATION;VALUE=URI;X-ADDRESS=50 Rondout Landing\, Kingst
 on\, NY\, 12401\, United States;X-APPLE-RADIUS=100;X-TITLE=Hudson River Ma
 ritime Museum:geo:41.91886,-73.980984
END:VEVENT
BEGIN:VTIMEZONE
TZID:America/New_York
X-LIC-LOCATION:America/New_York
BEGIN:DAYLIGHT
DTSTART:20260308T030000
TZOFFSETFROM:-0500
TZOFFSETTO:-0400
TZNAME:EDT
END:DAYLIGHT
END:VTIMEZONE
END:VCALENDAR