BEGIN:VCALENDAR
VERSION:2.0
PRODID:-//wp-events-plugin.com//7.2.3.1//EN
TZID:America/New_York
X-WR-TIMEZONE:America/New_York
BEGIN:VEVENT
UID:156007@kingstonhappenings.org
DTSTART;TZID=America/New_York:20260328T110000
DTEND;TZID=America/New_York:20260328T160000
DTSTAMP:20260324T190519Z
URL:https://kingstonhappenings.org/events/sojourner-truth-life-walk/
SUMMARY:Sojourner Truth Life Walk
DESCRIPTION:Join us for an unforgettable journey celebrating the incredible
  life of Sojourner Truth! Along the way\, we’ll stop at iconic locations
 \, each offering a unique piece of her story.
ATTACH;FMTTYPE=image/jpeg:https://kingstonhappenings.org/wp-content/upload
 s/2026/03/637805945_883474607650845_6456911165653325692_n.jpg
CATEGORIES:@Featured,@Newsletter,Community,For kids
LOCATION:Dietz Stadium\, 170 N. Front St.\, Kingston\, NY\, 12401\, United 
 States
GEO:41.934621;-74.02724799999999
X-APPLE-STRUCTURED-LOCATION;VALUE=URI;X-ADDRESS=170 N. Front St.\, Kingston
 \, NY\, 12401\, United States;X-APPLE-RADIUS=100;X-TITLE=Dietz Stadium:geo
 :41.934621,-74.02724799999999
END:VEVENT
BEGIN:VTIMEZONE
TZID:America/New_York
X-LIC-LOCATION:America/New_York
BEGIN:DAYLIGHT
DTSTART:20260308T030000
TZOFFSETFROM:-0500
TZOFFSETTO:-0400
TZNAME:EDT
END:DAYLIGHT
END:VTIMEZONE
END:VCALENDAR