BEGIN:VCALENDAR
VERSION:2.0
PRODID:-//wp-events-plugin.com//7.2.3.1//EN
TZID:America/New_York
X-WR-TIMEZONE:America/New_York
BEGIN:VEVENT
UID:153346@kingstonhappenings.org
DTSTART;TZID=America/New_York:20260111T090000
DTEND;TZID=America/New_York:20260111T120000
DTSTAMP:20260105T124941Z
URL:https://kingstonhappenings.org/events/snowflake-party-at-play-haven/
SUMMARY:Snowflake Party at Play Haven!
DESCRIPTION:You're invited to Play Haven's Snowflake Party! This is a speci
 al Sunday Stay &amp\; Play event which includes entry\, snack\, craft\, an
 d take home gift! Ideal for crawlers through 6 years old. Adults must stay
  and play with their children. Reservations not required\, but you can let
  us know you plan on coming by signing up here: https://playhaven.as.me/s
 tayandplay\n\n&nbsp\;
ATTACH;FMTTYPE=image/jpeg:https://kingstonhappenings.org/wp-content/upload
 s/2026/01/Social-Event-Posts-4.png
CATEGORIES:@Featured,@Newsletter,For kids
LOCATION:Play Haven\, 402 Albany Ave. \, KINGSTON\, NY\, 12401\, United Sta
 tes
GEO:41.959378;-74.016478
X-APPLE-STRUCTURED-LOCATION;VALUE=URI;X-ADDRESS=402 Albany Ave. \, KINGSTON
 \, NY\, 12401\, United States;X-APPLE-RADIUS=100;X-TITLE=Play Haven:geo:41
 .959378,-74.016478
END:VEVENT
BEGIN:VTIMEZONE
TZID:America/New_York
X-LIC-LOCATION:America/New_York
BEGIN:STANDARD
DTSTART:20251102T010000
TZOFFSETFROM:-0400
TZOFFSETTO:-0500
TZNAME:EST
END:STANDARD
END:VTIMEZONE
END:VCALENDAR