BEGIN:VCALENDAR
VERSION:2.0
PRODID:-//wp-events-plugin.com//7.2.3.1//EN
TZID:America/New_York
X-WR-TIMEZONE:America/New_York
BEGIN:VEVENT
UID:153000@kingstonhappenings.org
DTSTART;TZID=America/New_York:20251205T180000
DTEND;TZID=America/New_York:20251205T200000
DTSTAMP:20251208T133114Z
URL:https://kingstonhappenings.org/events/snowflake-festival-2025/
SUMMARY:Snowflake Festival 2025
DESCRIPTION:The Snowflake Festival brings Holiday magic that feels straight
  out of a storybook! Friday Dec 5th. 6-8PM. Uptown Kingston.Visit www.kub
 a.network/snowflake for more!\n\n&nbsp\;\n\n\n\n&nbsp\;\n\n&nbsp\;\n\n
ATTACH;FMTTYPE=image/jpeg:https://kingstonhappenings.org/wp-content/upload
 s/2025/12/588731885_859858409724021_1487657497120807680_n.jpg
CATEGORIES:@Featured,@Newsletter,Community,Market
LOCATION:Uptown Stockade District\, 400 Wall St.\, Kingston\, New York\, Un
 ited States
GEO:41.9351418;-74.02002270000003
X-APPLE-STRUCTURED-LOCATION;VALUE=URI;X-ADDRESS=400 Wall St.\, Kingston\, N
 ew York\, United States;X-APPLE-RADIUS=100;X-TITLE=Uptown Stockade Distric
 t:geo:41.9351418,-74.02002270000003
END:VEVENT
BEGIN:VTIMEZONE
TZID:America/New_York
X-LIC-LOCATION:America/New_York
BEGIN:STANDARD
DTSTART:20251102T010000
TZOFFSETFROM:-0400
TZOFFSETTO:-0500
TZNAME:EST
END:STANDARD
END:VTIMEZONE
END:VCALENDAR