BEGIN:VCALENDAR
VERSION:2.0
PRODID:-//wp-events-plugin.com//7.2.3.1//EN
TZID:America/New_York
X-WR-TIMEZONE:America/New_York
BEGIN:VEVENT
UID:156105@kingstonhappenings.org
DTSTART;TZID=America/New_York:20260425T143000
DTEND;TZID=America/New_York:20260425T173000
DTSTAMP:20260401T203508Z
URL:https://kingstonhappenings.org/events/smithsonian-exhibition-at-ccac/
SUMMARY:SMITHSONIAN EXHIBITION AT CCAC
DESCRIPTION:SMITHSONIAN EXHIBITION AT CCAC\nAMERICANS\nFrom the Smithsonian
 ’s National Museum of the American Indian\nPrepare to experience Americ
 ans\, a powerful traveling exhibition that reveals how Indigenous peoples 
 are intricately woven into the fabric of the United States—shaping its h
 istory\, culture\, and identity from the very beginning.\nThis thought-pro
 voking exhibit confronts a striking paradox: Native Americans are deeply p
 resent in popular culture\, yet often absent from historical narratives. T
 hrough compelling stories and perspectives\, Americans challenges famili
 ar myths and explores what has been remembered\, contested\, celebrated\, 
 and denied.\nAs we approach America 250\, this exhibition offers a timely
  opportunity to reflect on the diverse contributions that continue to shap
 e our evolving national identity.\nJoin us in Kingston this April and May
  for a richer\, more complete understanding of our shared past.\nThis int
 eractive display features memorabilia\, video\, audio\, scannable QR code
 s\, interactive components &amp\; more! Don't miss this exciting exhibit!\
 n\n\n\nExhibition Dates:\nApril 3 – May 16 During our regular business h
 ours\nOpening Reception:\nApril 25 | 2:30 PM – 5:30 PM\nFeaturing specia
 l programming\n\n\n\nWe look forward to welcoming you! All are welcome!\n
  If you have any questions or need information you can find us online at
  CCACNY.org \n\nOr you can call us during gallery hours at 845.768.5080
CATEGORIES:@Featured,Art,Community,Educational classes and
 lectures,History
LOCATION:Cornell Creative Arts Center\, 129 Cornell St. \, Kingston\, NY\, 
 12401\, United States
GEO:41.932942;-73.99999
X-APPLE-STRUCTURED-LOCATION;VALUE=URI;X-ADDRESS=129 Cornell St. \, Kingston
 \, NY\, 12401\, United States;X-APPLE-RADIUS=100;X-TITLE=Cornell Creative 
 Arts Center:geo:41.932942,-73.99999
END:VEVENT
BEGIN:VTIMEZONE
TZID:America/New_York
X-LIC-LOCATION:America/New_York
BEGIN:DAYLIGHT
DTSTART:20260308T030000
TZOFFSETFROM:-0500
TZOFFSETTO:-0400
TZNAME:EDT
END:DAYLIGHT
END:VTIMEZONE
END:VCALENDAR