BEGIN:VCALENDAR
VERSION:2.0
PRODID:-//wp-events-plugin.com//7.2.3.1//EN
TZID:America/New_York
X-WR-TIMEZONE:America/New_York
BEGIN:VEVENT
UID:151468@kingstonhappenings.org
DTSTART;TZID=America/New_York:20250816T200000
DTEND;TZID=America/New_York:20250816T230000
DTSTAMP:20250812T145922Z
URL:https://kingstonhappenings.org/events/sizzling-summer-fling-an-evening
 -of-live-music-pole-arts-and-live-music-fueled-dance-party/
SUMMARY:Sizzling Summer Fling: An Evening of Live Music\, Pole Arts and Liv
 e Music Fueled Dance Party!
DESCRIPTION:Back for their last performance of the summer season\, Hudson V
 alley Pole has once again partnered with DRIP! to serve up a night of stea
 my moves and sultry grooves.\nPresenting: SIZZLIN’ SUMMER FLING: An Even
 ing of Live Music\, Pole Arts and Live Music Fueled Dance Party!\nDRIP! is
  an exciting new group out of Woodstock\, NY embracing what makes you move
 ! Each member a powerhouse in their own right\, their combined might is a 
 force of hip shaking gravity! Specializing in Funk/Rock and RnB\, this bur
 geoning supergroup has a set for all occasions. Whether they’re bumping 
 their original tunes like “Booty Call” and “Little Horse”\, or sin
 ging classics from Joe Cocker and Funkadelic to Ginuwine and Silk Sonic\, 
 if you want a good time guaranteed\, this is your band!\nIt’s sweat\, sa
 ss\, and summer mischief all wrapped into one unforgettable show.One night
  only. Don’t miss the fling.\nGrab your tickets now — they won’t las
 t long!\nFeaturing Hudson Valley Pole Dancers:\n· Megabeth— Pole cleane
 r/kittenThe queen of fierce flow and cheeky sensuality\, owner and instruc
 tor at Hudson Valley Pole· Wicked Red —Pole PerformerThe Wickedly Talen
 ted Pole Grandmaster and instructor at Hudson Valley Pole· Lady Honeybee-
  Pole PerformerThe queen of slither and slink and instructor at Hudson Val
 ley Pole· Debi— Pole PerformerFierce defier of gravity and instructor a
 t Hudson Valley Pole· Bambi— Pole PerformerThe doe-eyed dominator- sens
 ual\, dynamic\, and utterly captivating.· Leggy Meg— Pole PerformerLegs
  for days\, serving sky-high splits\n\nTICKETS - $25 adv/$30 doorDOORS @ 7
 PMSHOW @ 8PMDANCE SET @ 10pm
ATTACH;FMTTYPE=image/jpeg:https://kingstonhappenings.org/wp-content/upload
 s/2025/08/520567368_720805450872468_389654457150598670_n-1.jpg
CATEGORIES:@Featured,@Newsletter,Dance,Music,Nightlife and entertainment
LOCATION:Unicorn Bar\, 224 Foxhall Ave.\, KINGSTON\, NY\, 12401\, United St
 ates
GEO:41.933684;-73.996845
X-APPLE-STRUCTURED-LOCATION;VALUE=URI;X-ADDRESS=224 Foxhall Ave.\, KINGSTON
 \, NY\, 12401\, United States;X-APPLE-RADIUS=100;X-TITLE=Unicorn Bar:geo:4
 1.933684,-73.996845
END:VEVENT
BEGIN:VTIMEZONE
TZID:America/New_York
X-LIC-LOCATION:America/New_York
BEGIN:DAYLIGHT
DTSTART:20250309T030000
TZOFFSETFROM:-0500
TZOFFSETTO:-0400
TZNAME:EDT
END:DAYLIGHT
END:VTIMEZONE
END:VCALENDAR