BEGIN:VCALENDAR
VERSION:2.0
PRODID:-//wp-events-plugin.com//7.2.3.1//EN
TZID:America/New_York
X-WR-TIMEZONE:America/New_York
BEGIN:VEVENT
UID:153168@kingstonhappenings.org
DTSTART;TZID=America/New_York:20260104T120000
DTEND;TZID=America/New_York:20260209T143000
DTSTAMP:20260202T180930Z
URL:https://kingstonhappenings.org/events/six-day-class-advanced-intaglio-
 nps/
SUMMARY:Six Day Class - Advanced Intaglio (NPS)
DESCRIPTION:6 Sundays\nJanuary 4\, 11\, 18\, 25\, February 1\,8 (Snow day F
 eb 15)\n12:00 - 2:30 pm\n\nPrice: $460\n\nAges 16+\n\nThis class is intend
 ed for students who have already taken an introductory etching course and 
 are interested in taking their work to the next level with advanced techni
 ques both traditional and experimental. This class will include hardground
  and aquatint while learning about working back into your plate to develop
  tonal depth through the expertise of printmaker Ezra Heller. Other method
 s such as chine collé and intaglio tusche washes will be decided upon thr
 ough discussion in class.\n\nAll materials included.\n\nParking: Please p
 ark on either Iwo Jima Lane or Cedar Street. Parking that is located in fr
 ont of the Neighborhood Print Studio are for residents living in the Pajam
 a Factory.\n\n-------------------------\n\nPlease register at least a week
  in advance to guarantee your spot. Scholarship availability closes 2 week
 s prior to the start of class.\n\n----------------------------------------
 -\n\nWe believe in access to art education for all. It takes the whole com
 munity to generate the equity our pay-what-you-can tuition generates. Behi
 nd the scenes\, we work to bridge the financial gap between what our stude
 nts can pay and what we need to sustain our programs. Please consider care
 fully before you use our discount codes.\n\nScholarship Codes:\nFor 25% di
 scount use code "25OFF"\nFor 50% discount use code "50OFF"\nFor 75% discou
 nt use code "75OFF"\n\nThis economic justice map from The Sliding Scale: 
 A Tool of Economic Justice by Alexis J. Cunningfolk is useful to assess w
 here you may fall on the financial spectrum of pay what you can.\n\nTo req
 uest 100% off tuition\, please contact chris@mkad.art
ATTACH;FMTTYPE=image/jpeg:https://kingstonhappenings.org/wp-content/upload
 s/2025/12/Six-Day-Class-Advanced-Intaglio-NPS.jpeg
CATEGORIES:@Featured,@Newsletter,Educational classes and lectures
LOCATION:Neighborhood Print Studio\, 49 Greenkill Avenue\, Kingston\, NY\, 
 12401\, United Kingdom
GEO:41.927819;-74.004441
X-APPLE-STRUCTURED-LOCATION;VALUE=URI;X-ADDRESS=49 Greenkill Avenue\, Kings
 ton\, NY\, 12401\, United Kingdom;X-APPLE-RADIUS=100;X-TITLE=Neighborhood 
 Print Studio:geo:41.927819,-74.004441
END:VEVENT
BEGIN:VTIMEZONE
TZID:America/New_York
X-LIC-LOCATION:America/New_York
BEGIN:STANDARD
DTSTART:20251102T010000
TZOFFSETFROM:-0400
TZOFFSETTO:-0500
TZNAME:EST
END:STANDARD
END:VTIMEZONE
END:VCALENDAR